BEGIN:VCALENDAR
VERSION:2.0
PRODID:-//Downtown Spokane Partnership - ECPv6.15.17.1//NONSGML v1.0//EN
CALSCALE:GREGORIAN
METHOD:PUBLISH
X-WR-CALNAME:Downtown Spokane Partnership
X-ORIGINAL-URL:https://downtownspokane.org
X-WR-CALDESC:Events for Downtown Spokane Partnership
REFRESH-INTERVAL;VALUE=DURATION:PT1H
X-Robots-Tag:noindex
X-PUBLISHED-TTL:PT1H
BEGIN:VTIMEZONE
TZID:America/Los_Angeles
BEGIN:DAYLIGHT
TZOFFSETFROM:-0800
TZOFFSETTO:-0700
TZNAME:PDT
DTSTART:20250309T100000
END:DAYLIGHT
BEGIN:STANDARD
TZOFFSETFROM:-0700
TZOFFSETTO:-0800
TZNAME:PST
DTSTART:20251102T090000
END:STANDARD
BEGIN:DAYLIGHT
TZOFFSETFROM:-0800
TZOFFSETTO:-0700
TZNAME:PDT
DTSTART:20260308T100000
END:DAYLIGHT
BEGIN:STANDARD
TZOFFSETFROM:-0700
TZOFFSETTO:-0800
TZNAME:PST
DTSTART:20261101T090000
END:STANDARD
BEGIN:DAYLIGHT
TZOFFSETFROM:-0800
TZOFFSETTO:-0700
TZNAME:PDT
DTSTART:20270314T100000
END:DAYLIGHT
BEGIN:STANDARD
TZOFFSETFROM:-0700
TZOFFSETTO:-0800
TZNAME:PST
DTSTART:20271107T090000
END:STANDARD
END:VTIMEZONE
BEGIN:VEVENT
DTSTART;TZID=America/Los_Angeles:20260204T160000
DTEND;TZID=America/Los_Angeles:20260204T210000
DTSTAMP:20260419T123730
CREATED:20260128T171333Z
LAST-MODIFIED:20260128T171333Z
UID:113544-1770220800-1770238800@downtownspokane.org
SUMMARY:Bubbles & Berries Galentine's Ladies' Night Out
DESCRIPTION:BUBBLES & BERRIES LADIES’ NIGHT OUTThis four-course dinner + pairing includes: \nCHEESE FONDUE\nSPARKLING GRUYÉRE \nGruyére | Raclette | Fontina | Champagne | Garlic | Nutmeg | Lemon \nPaired with: Mumm Brut Rosè \nSALAD\nSTRAWBERRY FETA SALAD \nMixed field greens | Strawberries | Feta | Honey-roasted almonds |Raspberry walnut vinaigrette \nPaired with: Mionetto Prosecco \nENTREE*\nFEATURED GALENTINE’S ENTREE \nServed with fresh vegetables & homemade sauces. \n*Featured Champagne Cooking Style or choice of any cooking style* \nTeriyaki-marinated sirloin | Pacific white shrimp | Herb-crusted chicken | Wild Mushroom Pasta \nPaired with: Freixenet Rosé \nCHOCOLATE FONDUE\nSPARKLING WHITE CHOCOLATE \nWhite chocolate fondue melted with sparkling wine and garnished with fresh strawberries and whipped topping. \nPaired with: Freixenet Cordón Negro Brut \n$59/guest \nAll guests welcome to attend. Must be 21+ with valid ID to consume alcoholic beverages. Not valid with other discounts\, dip certificates or promotions.
URL:https://downtownspokane.org/event/bubbles-berries-galentines-ladies-night-out-2/
LOCATION:The Melting Pot\, 707 W Main Ave\, #C1 Crescent Court\, Spokane\, WA\, 99201\, United States
CATEGORIES:Annual,Art & Entertainment,Beer / Wine / Cocktail,Cuisine,Valentine's Day
ATTACH;FMTTYPE=image/jpeg:https://downtownspokane.org/wp-content/uploads/2026/01/0bef22f4-9d7e-4ade-b37b-6e5a95b7b115-Dh1nci.jpg
GEO:47.65883119999999;-117.4225681
X-APPLE-STRUCTURED-LOCATION;VALUE=URI;X-ADDRESS=The Melting Pot 707 W Main Ave #C1 Crescent Court Spokane WA 99201 United States;X-APPLE-RADIUS=500;X-TITLE=707 W Main Ave\, #C1 Crescent Court:geo:-117.4225681,47.65883119999999
END:VEVENT
END:VCALENDAR