BEGIN:VCALENDAR
VERSION:2.0
PRODID:-//Downtown Spokane Partnership - ECPv6.15.17.1//NONSGML v1.0//EN
CALSCALE:GREGORIAN
METHOD:PUBLISH
X-WR-CALNAME:Downtown Spokane Partnership
X-ORIGINAL-URL:https://downtownspokane.org
X-WR-CALDESC:Events for Downtown Spokane Partnership
REFRESH-INTERVAL;VALUE=DURATION:PT1H
X-Robots-Tag:noindex
X-PUBLISHED-TTL:PT1H
BEGIN:VTIMEZONE
TZID:America/Los_Angeles
BEGIN:DAYLIGHT
TZOFFSETFROM:-0800
TZOFFSETTO:-0700
TZNAME:PDT
DTSTART:20250309T100000
END:DAYLIGHT
BEGIN:STANDARD
TZOFFSETFROM:-0700
TZOFFSETTO:-0800
TZNAME:PST
DTSTART:20251102T090000
END:STANDARD
BEGIN:DAYLIGHT
TZOFFSETFROM:-0800
TZOFFSETTO:-0700
TZNAME:PDT
DTSTART:20260308T100000
END:DAYLIGHT
BEGIN:STANDARD
TZOFFSETFROM:-0700
TZOFFSETTO:-0800
TZNAME:PST
DTSTART:20261101T090000
END:STANDARD
BEGIN:DAYLIGHT
TZOFFSETFROM:-0800
TZOFFSETTO:-0700
TZNAME:PDT
DTSTART:20270314T100000
END:DAYLIGHT
BEGIN:STANDARD
TZOFFSETFROM:-0700
TZOFFSETTO:-0800
TZNAME:PST
DTSTART:20271107T090000
END:STANDARD
END:VTIMEZONE
BEGIN:VEVENT
DTSTART;TZID=America/Los_Angeles:20260206T180000
DTEND;TZID=America/Los_Angeles:20260206T200000
DTSTAMP:20260420T035750
CREATED:20260128T153639Z
LAST-MODIFIED:20260128T155132Z
UID:113245-1770400800-1770408000@downtownspokane.org
SUMMARY:Henry Arguinchona acoustic guitar/ Rocky Kerr fine arts paintings
DESCRIPTION:Solo acoustic guitar of popular and classic pieces. Intimate setting with opportunity to meet and chat with Spokane resident and musician Dr. Henry Arguinchona.\nGalley display of oil and watercolor paintings by Spokane artist Rocky Kerr. Rocky will be available to discuss His work.
URL:https://downtownspokane.org/event/henry-arguinchona-acoustic-guitar-rocky-kerr-fine-arts-paintings-2/
LOCATION:Express Employment Professionals\, 331 W Main Ave\,\, Spokane\, WA\, 99201\, United States
CATEGORIES:Art & Entertainment,First Friday,Live Music,Visual Art
ATTACH;FMTTYPE=image/jpeg:https://downtownspokane.org/wp-content/uploads/2026/01/IMG_1967-scaled-fwP4yV.jpg
ORGANIZER;CN="Robert Kerr":MAILTO:kerrmagnolia1@hotmail.com
GEO:47.6589760;-117.4167990
X-APPLE-STRUCTURED-LOCATION;VALUE=URI;X-ADDRESS=Express Employment Professionals 331 W Main Ave Spokane WA 99201 United States;X-APPLE-RADIUS=500;X-TITLE=331 W Main Ave\,:geo:-117.4167990,47.6589760
END:VEVENT
END:VCALENDAR