BEGIN:VCALENDAR
VERSION:2.0
PRODID:-//Downtown Spokane Partnership - ECPv6.15.17.1//NONSGML v1.0//EN
CALSCALE:GREGORIAN
METHOD:PUBLISH
X-WR-CALNAME:Downtown Spokane Partnership
X-ORIGINAL-URL:https://downtownspokane.org
X-WR-CALDESC:Events for Downtown Spokane Partnership
REFRESH-INTERVAL;VALUE=DURATION:PT1H
X-Robots-Tag:noindex
X-PUBLISHED-TTL:PT1H
BEGIN:VTIMEZONE
TZID:America/Los_Angeles
BEGIN:DAYLIGHT
TZOFFSETFROM:-0800
TZOFFSETTO:-0700
TZNAME:PDT
DTSTART:20250309T100000
END:DAYLIGHT
BEGIN:STANDARD
TZOFFSETFROM:-0700
TZOFFSETTO:-0800
TZNAME:PST
DTSTART:20251102T090000
END:STANDARD
BEGIN:DAYLIGHT
TZOFFSETFROM:-0800
TZOFFSETTO:-0700
TZNAME:PDT
DTSTART:20260308T100000
END:DAYLIGHT
BEGIN:STANDARD
TZOFFSETFROM:-0700
TZOFFSETTO:-0800
TZNAME:PST
DTSTART:20261101T090000
END:STANDARD
BEGIN:DAYLIGHT
TZOFFSETFROM:-0800
TZOFFSETTO:-0700
TZNAME:PDT
DTSTART:20270314T100000
END:DAYLIGHT
BEGIN:STANDARD
TZOFFSETFROM:-0700
TZOFFSETTO:-0800
TZNAME:PST
DTSTART:20271107T090000
END:STANDARD
END:VTIMEZONE
BEGIN:VEVENT
DTSTART;TZID=America/Los_Angeles:20260214T193000
DTEND;TZID=America/Los_Angeles:20260214T213000
DTSTAMP:20260419T105312
CREATED:20260128T170810Z
LAST-MODIFIED:20260128T170810Z
UID:113490-1771097400-1771104600@downtownspokane.org
SUMMARY:La La Land in Concert
DESCRIPTION:Revisit the 2016 Academy Award® winning Lionsgate film\, La La Land\, starring Ryan Gosling and Emma Stone\, written and directed by Damien Chazelle\, in a swoon-worthy live concert experience.\nLa La Land showcases the captivating story of a promising pianist and aspiring actress who cross paths and fall in love\, while attempting to harmonize their career journeys in the city of stars. \nThe show features a full orchestra and jazz band performing the soundtrack\, along with the movie. Experience the vivid musical moments central to the film\, including the unbelievable piano solos\, live! \nDOORS 6:30PM | SHOW 7:30PM
URL:https://downtownspokane.org/event/la-la-land-in-concert-2/
LOCATION:Martin Woldson Theater at the Fox\, 1001 W. Sprague Ave.\,\, Spokane\, WA\, 99201\, United States
CATEGORIES:Annual,Art & Entertainment,Film,Live Music,Valentine's Day
ATTACH;FMTTYPE=image/jpeg:https://downtownspokane.org/wp-content/uploads/2026/01/LLL_D29_05187_R-scaled-e1753722381389-768x768-1-a3rOTb.jpg
GEO:47.6570930;-117.4267260
X-APPLE-STRUCTURED-LOCATION;VALUE=URI;X-ADDRESS=Martin Woldson Theater at the Fox 1001 W. Sprague Ave. Spokane WA 99201 United States;X-APPLE-RADIUS=500;X-TITLE=1001 W. Sprague Ave.\,:geo:-117.4267260,47.6570930
END:VEVENT
END:VCALENDAR