BEGIN:VCALENDAR
VERSION:2.0
PRODID:-//Downtown Spokane Partnership - ECPv6.15.17.1//NONSGML v1.0//EN
CALSCALE:GREGORIAN
METHOD:PUBLISH
X-WR-CALNAME:Downtown Spokane Partnership
X-ORIGINAL-URL:https://downtownspokane.org
X-WR-CALDESC:Events for Downtown Spokane Partnership
REFRESH-INTERVAL;VALUE=DURATION:PT1H
X-Robots-Tag:noindex
X-PUBLISHED-TTL:PT1H
BEGIN:VTIMEZONE
TZID:America/Los_Angeles
BEGIN:DAYLIGHT
TZOFFSETFROM:-0800
TZOFFSETTO:-0700
TZNAME:PDT
DTSTART:20250309T100000
END:DAYLIGHT
BEGIN:STANDARD
TZOFFSETFROM:-0700
TZOFFSETTO:-0800
TZNAME:PST
DTSTART:20251102T090000
END:STANDARD
BEGIN:DAYLIGHT
TZOFFSETFROM:-0800
TZOFFSETTO:-0700
TZNAME:PDT
DTSTART:20260308T100000
END:DAYLIGHT
BEGIN:STANDARD
TZOFFSETFROM:-0700
TZOFFSETTO:-0800
TZNAME:PST
DTSTART:20261101T090000
END:STANDARD
BEGIN:DAYLIGHT
TZOFFSETFROM:-0800
TZOFFSETTO:-0700
TZNAME:PDT
DTSTART:20270314T100000
END:DAYLIGHT
BEGIN:STANDARD
TZOFFSETFROM:-0700
TZOFFSETTO:-0800
TZNAME:PST
DTSTART:20271107T090000
END:STANDARD
END:VTIMEZONE
BEGIN:VEVENT
DTSTART;TZID=America/Los_Angeles:20260125T110000
DTEND;TZID=America/Los_Angeles:20260228T200000
DTSTAMP:20260419T082757
CREATED:20260128T153850Z
LAST-MODIFIED:20260128T153850Z
UID:113262-1769338800-1772308800@downtownspokane.org
SUMMARY:Liberty Gallery presents "From Stardust" – Dreamscapes of the Universe by Kelsea Rothaus
DESCRIPTION:Kelsea Rothaus is a self-taught artist based in Spokane. Her work explores themes of the human condition and the interconnectedness of the universe. Using primarily ink and water to embrace both unpredictability and permanence\, each creation is shaped into a moment in time\, with quiet tension between light and dark.\nKelsea’s latest body of work looks outward to the stars and universe while reflecting on what it means to be human. Using her own style of ink wash\, she embraces a process that is fluid yet permanent. Each mark is final\, and echoes the irreversible nature of lived experience. These dreamscapes are subtly embellished with detail\, inviting you to slow down and look closer at the art or into yourself. \nStop by the Liberty Gallery located in the Historic Liberty Building from Jan 25th to Feb 28th… stop by First Friday on Feb 6th to meet Kelsea in person!
URL:https://downtownspokane.org/event/liberty-gallery-presents-from-stardust-dreamscapes-of-the-universe-by-kelsea-rothaus-2/
LOCATION:Liberty Gallery in the Historic Liberty Building\, 203 N Washington\,\, Spokane\, WA\, 99201\, United States
CATEGORIES:Art & Entertainment,First Friday,Visual Art
ATTACH;FMTTYPE=image/jpeg:https://downtownspokane.org/wp-content/uploads/2026/01/Capricorn-3-oJhLo9.jpg
ORGANIZER;CN="S. Reynolds":MAILTO:conreyn@newwave.net
GEO:47.6593064;-117.4183048
X-APPLE-STRUCTURED-LOCATION;VALUE=URI;X-ADDRESS=Liberty Gallery in the Historic Liberty Building 203 N Washington Spokane WA 99201 United States;X-APPLE-RADIUS=500;X-TITLE=203 N Washington\,:geo:-117.4183048,47.6593064
END:VEVENT
END:VCALENDAR