BEGIN:VCALENDAR
VERSION:2.0
PRODID:-//Downtown Spokane Partnership - ECPv6.15.17.1//NONSGML v1.0//EN
CALSCALE:GREGORIAN
METHOD:PUBLISH
X-WR-CALNAME:Downtown Spokane Partnership
X-ORIGINAL-URL:https://downtownspokane.org
X-WR-CALDESC:Events for Downtown Spokane Partnership
REFRESH-INTERVAL;VALUE=DURATION:PT1H
X-Robots-Tag:noindex
X-PUBLISHED-TTL:PT1H
BEGIN:VTIMEZONE
TZID:America/Los_Angeles
BEGIN:DAYLIGHT
TZOFFSETFROM:-0800
TZOFFSETTO:-0700
TZNAME:PDT
DTSTART:20250309T100000
END:DAYLIGHT
BEGIN:STANDARD
TZOFFSETFROM:-0700
TZOFFSETTO:-0800
TZNAME:PST
DTSTART:20251102T090000
END:STANDARD
BEGIN:DAYLIGHT
TZOFFSETFROM:-0800
TZOFFSETTO:-0700
TZNAME:PDT
DTSTART:20260308T100000
END:DAYLIGHT
BEGIN:STANDARD
TZOFFSETFROM:-0700
TZOFFSETTO:-0800
TZNAME:PST
DTSTART:20261101T090000
END:STANDARD
BEGIN:DAYLIGHT
TZOFFSETFROM:-0800
TZOFFSETTO:-0700
TZNAME:PDT
DTSTART:20270314T100000
END:DAYLIGHT
BEGIN:STANDARD
TZOFFSETFROM:-0700
TZOFFSETTO:-0800
TZNAME:PST
DTSTART:20271107T090000
END:STANDARD
END:VTIMEZONE
BEGIN:VEVENT
DTSTART;TZID=America/Los_Angeles:20260427T174500
DTEND;TZID=America/Los_Angeles:20260427T200000
DTSTAMP:20260419T114503
CREATED:20260302T214037Z
LAST-MODIFIED:20260302T214037Z
UID:10038286-1777311900-1777320000@downtownspokane.org
SUMMARY:Pie School with Kate Lebo
DESCRIPTION:A piece of homemade cake is easy\, but a slice of pie? Not so much.\nIf you’ve ever been at a loss for pastry\, nervous about filling\, confused by pie lore\, or annoyed by fussy recipes\, Kate Lebo’s Pie School is here to make it all better.\nKate Lebo’s mission is to teach you how to make the best pie ever and to invite you\, through pie-making\, to use your senses\, trust yourself\, and make what you can with what you have.\nYou’ll learn how to make dough by hand\, select the best fruit\, put a double crust pie together\, bake it to perfection\, and make up your own pie recipes.\nOn the menu: Fruit Slab Pie
URL:https://downtownspokane.org/event/pie-school-with-kate-lebo/2026-04-27/
LOCATION:The Kitchen Engine\, 621 W Mallon Ave\, #416 Flour Mill\, Spokane\, WA\, 99201\, United States
CATEGORIES:Art & Entertainment,Cuisine
ATTACH;FMTTYPE=image/jpeg:https://downtownspokane.org/wp-content/uploads/2026/03/pie-school-with-kate-lebo-spokane-4-portrait-small.jpg
ORGANIZER;CN="Jamie Aquino":MAILTO:jamiea@thekitchenengine.com
GEO:47.6652132;-117.422152
X-APPLE-STRUCTURED-LOCATION;VALUE=URI;X-ADDRESS=The Kitchen Engine 621 W Mallon Ave #416 Flour Mill Spokane WA 99201 United States;X-APPLE-RADIUS=500;X-TITLE=621 W Mallon Ave\, #416 Flour Mill:geo:-117.422152,47.6652132
END:VEVENT
END:VCALENDAR