BEGIN:VCALENDAR
VERSION:2.0
PRODID:-//Downtown Spokane Partnership - ECPv6.15.17.1//NONSGML v1.0//EN
CALSCALE:GREGORIAN
METHOD:PUBLISH
X-WR-CALNAME:Downtown Spokane Partnership
X-ORIGINAL-URL:https://downtownspokane.org
X-WR-CALDESC:Events for Downtown Spokane Partnership
REFRESH-INTERVAL;VALUE=DURATION:PT1H
X-Robots-Tag:noindex
X-PUBLISHED-TTL:PT1H
BEGIN:VTIMEZONE
TZID:America/Los_Angeles
BEGIN:DAYLIGHT
TZOFFSETFROM:-0800
TZOFFSETTO:-0700
TZNAME:PDT
DTSTART:20250309T100000
END:DAYLIGHT
BEGIN:STANDARD
TZOFFSETFROM:-0700
TZOFFSETTO:-0800
TZNAME:PST
DTSTART:20251102T090000
END:STANDARD
BEGIN:DAYLIGHT
TZOFFSETFROM:-0800
TZOFFSETTO:-0700
TZNAME:PDT
DTSTART:20260308T100000
END:DAYLIGHT
BEGIN:STANDARD
TZOFFSETFROM:-0700
TZOFFSETTO:-0800
TZNAME:PST
DTSTART:20261101T090000
END:STANDARD
BEGIN:DAYLIGHT
TZOFFSETFROM:-0800
TZOFFSETTO:-0700
TZNAME:PDT
DTSTART:20270314T100000
END:DAYLIGHT
BEGIN:STANDARD
TZOFFSETFROM:-0700
TZOFFSETTO:-0800
TZNAME:PST
DTSTART:20271107T090000
END:STANDARD
END:VTIMEZONE
BEGIN:VEVENT
DTSTART;TZID=America/Los_Angeles:20260124T180000
DTEND;TZID=America/Los_Angeles:20260124T190000
DTSTAMP:20260419T044731
CREATED:20260128T160446Z
LAST-MODIFIED:20260128T160446Z
UID:113401-1769277600-1769281200@downtownspokane.org
SUMMARY:Queer & Weird Book Club
DESCRIPTION:We will be discussing “Cry\, Voidbringer” by Elaine Ho at the January meeting.\nThis book club typically meets on the 4th Saturday of the month at Auntie’s Bookstore and is led by Ness. Please send any inquiries to vanessa@auntiesbooks.com
URL:https://downtownspokane.org/event/queer-weird-book-club-3/
LOCATION:Auntie’s Bookstore\, 402 W Main Ave\, #1st Fl Liberty Bldg\,\, Spokane\, WA\, 99201\, United States
CATEGORIES:Art & Entertainment,Literature
ATTACH;FMTTYPE=image/png:https://downtownspokane.org/wp-content/uploads/2026/01/Queer-Weird-Book-Club-Instagram-1-et1dZ5.png
ORGANIZER;CN="Teri Ness":MAILTO:events@auntiesbooks.com
GEO:47.65920089999999;-117.4183536
X-APPLE-STRUCTURED-LOCATION;VALUE=URI;X-ADDRESS=Auntie’s Bookstore 402 W Main Ave #1st Fl Liberty Bldg Spokane WA 99201 United States;X-APPLE-RADIUS=500;X-TITLE=402 W Main Ave\, #1st Fl Liberty Bldg\,:geo:-117.4183536,47.65920089999999
END:VEVENT
END:VCALENDAR