BEGIN:VCALENDAR
VERSION:2.0
PRODID:-//Downtown Spokane Partnership - ECPv6.15.17.1//NONSGML v1.0//EN
CALSCALE:GREGORIAN
METHOD:PUBLISH
X-WR-CALNAME:Downtown Spokane Partnership
X-ORIGINAL-URL:https://downtownspokane.org
X-WR-CALDESC:Events for Downtown Spokane Partnership
REFRESH-INTERVAL;VALUE=DURATION:PT1H
X-Robots-Tag:noindex
X-PUBLISHED-TTL:PT1H
BEGIN:VTIMEZONE
TZID:America/Los_Angeles
BEGIN:DAYLIGHT
TZOFFSETFROM:-0800
TZOFFSETTO:-0700
TZNAME:PDT
DTSTART:20250309T100000
END:DAYLIGHT
BEGIN:STANDARD
TZOFFSETFROM:-0700
TZOFFSETTO:-0800
TZNAME:PST
DTSTART:20251102T090000
END:STANDARD
BEGIN:DAYLIGHT
TZOFFSETFROM:-0800
TZOFFSETTO:-0700
TZNAME:PDT
DTSTART:20260308T100000
END:DAYLIGHT
BEGIN:STANDARD
TZOFFSETFROM:-0700
TZOFFSETTO:-0800
TZNAME:PST
DTSTART:20261101T090000
END:STANDARD
BEGIN:DAYLIGHT
TZOFFSETFROM:-0800
TZOFFSETTO:-0700
TZNAME:PDT
DTSTART:20270314T100000
END:DAYLIGHT
BEGIN:STANDARD
TZOFFSETFROM:-0700
TZOFFSETTO:-0800
TZNAME:PST
DTSTART:20271107T090000
END:STANDARD
END:VTIMEZONE
BEGIN:VEVENT
DTSTART;TZID=America/Los_Angeles:20260306T170000
DTEND;TZID=America/Los_Angeles:20260327T200000
DTSTAMP:20260420T033857
CREATED:20260302T160608Z
LAST-MODIFIED:20260302T160608Z
UID:139520-1772816400-1774641600@downtownspokane.org
SUMMARY:Stoked! Work from the Kurōrukamegama wood kiln.
DESCRIPTION:Trackside Studio Ceramic Art Gallery is hosting an exhibit of ceramic art fired in the Kurōrukamegama wood kiln. The artists are the crew that helped with the October ’25 firing of the kiln. It was a four day firing requiring round the clock stoking of fuel to get temperatures reaching 2300F. \nStoked! Work from the Kurōrukamegama wood kiln. Ceramic art by the crew who fired the kiln in October.\nFirst Friday March 6\, 5-8pm and Saturday 12-4.\nTrackside Studio\, open Wed-Fri. 11-5\, through 3/27.
URL:https://downtownspokane.org/event/stoked-work-from-the-kurorukamegama-wood-kiln/
LOCATION:Trackside Studio Ceramic Art Gallery\, 115 S Adams St\,\, Spokane\, WA\, 99201\, United States
CATEGORIES:Art & Entertainment,First Friday,Visual Art
ATTACH;FMTTYPE=image/jpeg:https://downtownspokane.org/wp-content/uploads/2026/03/IMG_9602-scaled.jpeg
ORGANIZER;CN="Chris Kelsey":MAILTO:trackside@tracksidestudio.net
GEO:47.6561721;-117.4309805
X-APPLE-STRUCTURED-LOCATION;VALUE=URI;X-ADDRESS=Trackside Studio Ceramic Art Gallery 115 S Adams St Spokane WA 99201 United States;X-APPLE-RADIUS=500;X-TITLE=115 S Adams St\,:geo:-117.4309805,47.6561721
END:VEVENT
END:VCALENDAR