BEGIN:VCALENDAR
VERSION:2.0
PRODID:-//Downtown Spokane Partnership - ECPv6.15.17.1//NONSGML v1.0//EN
CALSCALE:GREGORIAN
METHOD:PUBLISH
X-WR-CALNAME:Downtown Spokane Partnership
X-ORIGINAL-URL:https://downtownspokane.org
X-WR-CALDESC:Events for Downtown Spokane Partnership
REFRESH-INTERVAL;VALUE=DURATION:PT1H
X-Robots-Tag:noindex
X-PUBLISHED-TTL:PT1H
BEGIN:VTIMEZONE
TZID:America/Los_Angeles
BEGIN:DAYLIGHT
TZOFFSETFROM:-0800
TZOFFSETTO:-0700
TZNAME:PDT
DTSTART:20250309T100000
END:DAYLIGHT
BEGIN:STANDARD
TZOFFSETFROM:-0700
TZOFFSETTO:-0800
TZNAME:PST
DTSTART:20251102T090000
END:STANDARD
BEGIN:DAYLIGHT
TZOFFSETFROM:-0800
TZOFFSETTO:-0700
TZNAME:PDT
DTSTART:20260308T100000
END:DAYLIGHT
BEGIN:STANDARD
TZOFFSETFROM:-0700
TZOFFSETTO:-0800
TZNAME:PST
DTSTART:20261101T090000
END:STANDARD
BEGIN:DAYLIGHT
TZOFFSETFROM:-0800
TZOFFSETTO:-0700
TZNAME:PDT
DTSTART:20270314T100000
END:DAYLIGHT
BEGIN:STANDARD
TZOFFSETFROM:-0700
TZOFFSETTO:-0800
TZNAME:PST
DTSTART:20271107T090000
END:STANDARD
END:VTIMEZONE
BEGIN:VEVENT
DTSTART;TZID=America/Los_Angeles:20260103T160000
DTEND;TZID=America/Los_Angeles:20260131T190000
DTSTAMP:20260419T050410
CREATED:20260128T171234Z
LAST-MODIFIED:20260128T171234Z
UID:113525-1767456000-1769886000@downtownspokane.org
SUMMARY:"Symbiosis: The Living Language of the Inland Northwest" at Terrain Gallery
DESCRIPTION:“Symbiosis: The Living Language of the Inland Northwest” brings together three artists exploring the deep interconnections between humans and the natural world.\nLauren Adams’ large scale drawings of native conifers honor the monumental presence and intricate details of the region’s forests. Tricia Kleinot’s Fruiting Bodies reveals the unseen networks of fungi and lichen that sustain life beneath the surface. Joanna Shippam’s paintings celebrate the natural world through abstract representation\, often mixing natural pigments with manmade mediums to highlight our connection to our environment. \nTogether\, their works invite viewers to see the Inland Northwest as a living system where every root\, spore\, and grain of soil speaks the language of balance\, reciprocity\, and wonder. \nSHOW HOURS:\nJan 2nd – Opening Reception: 5:00PM – 8:00PM\nJan 3rd\, 8th\, 9th\, 10th\, 15th\, 16th\, 17th\, 22nd\, 23rd\, 24th\, 29th\, 30th\, Jan 31st – 4:00PM – 7:00PM
URL:https://downtownspokane.org/event/symbiosis-the-living-language-of-the-inland-northwest-at-terrain-gallery-2/
LOCATION:Terrain Gallery\, 628 N Monroe St\,\, Spokane\, WA\, 99201\, United States
CATEGORIES:Art & Entertainment,Visual Art
ATTACH;FMTTYPE=image/jpeg:https://downtownspokane.org/wp-content/uploads/2026/01/squarespace_hero-01-im7iyA.jpg
ORGANIZER;CN="Andrea Olmsted":MAILTO:team@terrainspokane.com
GEO:47.6636190;-117.4263055
X-APPLE-STRUCTURED-LOCATION;VALUE=URI;X-ADDRESS=Terrain Gallery 628 N Monroe St Spokane WA 99201 United States;X-APPLE-RADIUS=500;X-TITLE=628 N Monroe St\,:geo:-117.4263055,47.6636190
END:VEVENT
END:VCALENDAR