BEGIN:VCALENDAR
VERSION:2.0
PRODID:-//Downtown Spokane Partnership - ECPv6.15.17.1//NONSGML v1.0//EN
CALSCALE:GREGORIAN
METHOD:PUBLISH
X-WR-CALNAME:Downtown Spokane Partnership
X-ORIGINAL-URL:https://downtownspokane.org
X-WR-CALDESC:Events for Downtown Spokane Partnership
REFRESH-INTERVAL;VALUE=DURATION:PT1H
X-Robots-Tag:noindex
X-PUBLISHED-TTL:PT1H
BEGIN:VTIMEZONE
TZID:America/Los_Angeles
BEGIN:DAYLIGHT
TZOFFSETFROM:-0800
TZOFFSETTO:-0700
TZNAME:PDT
DTSTART:20240310T100000
END:DAYLIGHT
BEGIN:STANDARD
TZOFFSETFROM:-0700
TZOFFSETTO:-0800
TZNAME:PST
DTSTART:20241103T090000
END:STANDARD
BEGIN:DAYLIGHT
TZOFFSETFROM:-0800
TZOFFSETTO:-0700
TZNAME:PDT
DTSTART:20250309T100000
END:DAYLIGHT
BEGIN:STANDARD
TZOFFSETFROM:-0700
TZOFFSETTO:-0800
TZNAME:PST
DTSTART:20251102T090000
END:STANDARD
BEGIN:DAYLIGHT
TZOFFSETFROM:-0800
TZOFFSETTO:-0700
TZNAME:PDT
DTSTART:20260308T100000
END:DAYLIGHT
BEGIN:STANDARD
TZOFFSETFROM:-0700
TZOFFSETTO:-0800
TZNAME:PST
DTSTART:20261101T090000
END:STANDARD
BEGIN:DAYLIGHT
TZOFFSETFROM:-0800
TZOFFSETTO:-0700
TZNAME:PDT
DTSTART:20270314T100000
END:DAYLIGHT
BEGIN:STANDARD
TZOFFSETFROM:-0700
TZOFFSETTO:-0800
TZNAME:PST
DTSTART:20271107T090000
END:STANDARD
END:VTIMEZONE
BEGIN:VEVENT
DTSTART;TZID=America/Los_Angeles:20251228T110000
DTEND;TZID=America/Los_Angeles:20260124T190000
DTSTAMP:20260419T050340
CREATED:20260128T153848Z
LAST-MODIFIED:20260128T153848Z
UID:113261-1766919600-1769281200@downtownspokane.org
SUMMARY:The Liberty Gallery presents "An Illustrated Thanksgiving Address" – In Gratitude for the Gifts of the Natural World
DESCRIPTION:The Thanksgiving Address\, also called “Greetings and Thanks to the Natural World”\, is an ancient indigenous statement of gratitude for the gifts of the natural world that sustain us all\, as passed down for centuries by the people of the Haudenosaunee Confederation of northeast North America. The Liberty Gallery is pleased to exhibit art inspired by this statement of gratitude\, created by nine local artists.\nThe show opens Dec 28th and continues to Jan 24th ~ stop by the Liberty Gallery on First Friday Jan 2 to Meet the Artists from 5-8:30 pm.
URL:https://downtownspokane.org/event/the-liberty-gallery-presents-an-illustrated-thanksgiving-address-in-gratitude-for-the-gifts-of-the-natural-world-2/
LOCATION:Liberty Gallery in the Historic Liberty Building\, 203 N Washington\,\, Spokane\, WA\, 99201\, United States
CATEGORIES:First Friday
ATTACH;FMTTYPE=image/jpeg:https://downtownspokane.org/wp-content/uploads/2026/01/The-Messenger-by-Pierr-Morgan-E5GweP.jpg
ORGANIZER;CN="S. Reynolds":MAILTO:conreyn@newwave.net
GEO:47.6593064;-117.4183048
X-APPLE-STRUCTURED-LOCATION;VALUE=URI;X-ADDRESS=Liberty Gallery in the Historic Liberty Building 203 N Washington Spokane WA 99201 United States;X-APPLE-RADIUS=500;X-TITLE=203 N Washington\,:geo:-117.4183048,47.6593064
END:VEVENT
END:VCALENDAR