BEGIN:VCALENDAR
VERSION:2.0
PRODID:-//Downtown Spokane Partnership - ECPv6.15.17.1//NONSGML v1.0//EN
CALSCALE:GREGORIAN
METHOD:PUBLISH
X-ORIGINAL-URL:https://downtownspokane.org
X-WR-CALDESC:Events for Downtown Spokane Partnership
REFRESH-INTERVAL;VALUE=DURATION:PT1H
X-Robots-Tag:noindex
X-PUBLISHED-TTL:PT1H
BEGIN:VTIMEZONE
TZID:America/Los_Angeles
BEGIN:DAYLIGHT
TZOFFSETFROM:-0800
TZOFFSETTO:-0700
TZNAME:PDT
DTSTART:20250309T100000
END:DAYLIGHT
BEGIN:STANDARD
TZOFFSETFROM:-0700
TZOFFSETTO:-0800
TZNAME:PST
DTSTART:20251102T090000
END:STANDARD
BEGIN:DAYLIGHT
TZOFFSETFROM:-0800
TZOFFSETTO:-0700
TZNAME:PDT
DTSTART:20260308T100000
END:DAYLIGHT
BEGIN:STANDARD
TZOFFSETFROM:-0700
TZOFFSETTO:-0800
TZNAME:PST
DTSTART:20261101T090000
END:STANDARD
BEGIN:DAYLIGHT
TZOFFSETFROM:-0800
TZOFFSETTO:-0700
TZNAME:PDT
DTSTART:20270314T100000
END:DAYLIGHT
BEGIN:STANDARD
TZOFFSETFROM:-0700
TZOFFSETTO:-0800
TZNAME:PST
DTSTART:20271107T090000
END:STANDARD
END:VTIMEZONE
BEGIN:VEVENT
DTSTART;TZID=America/Los_Angeles:20260425T193000
DTEND;TZID=America/Los_Angeles:20260425T213000
DTSTAMP:20260419T210933
CREATED:20260128T170739Z
LAST-MODIFIED:20260128T170739Z
UID:10038183-1777145400-1777152600@downtownspokane.org
SUMMARY:Spokane Symphony Masterworks 8: Verdi Requiem
DESCRIPTION:Guiseppe Verdi’s monumental Requiem is an epic and deeply moving work written in honor of Italian writer Alessandro Manzoni. This choral masterpiece merges operatic intensity with sacred reverence\, exploring the full range of human emotion—from fear and sorrow to hope and transcendence. It stands as one of Verdi’s most profound and stirring works\, a requiem that feels both personal and universal.
URL:https://downtownspokane.org/event/spokane-symphony-masterworks-8-verdi-requiem-2/
LOCATION:Martin Woldson Theater at the Fox\, 1001 W. Sprague Ave.\,\, Spokane\, WA\, 99201\, United States
CATEGORIES:Art & Entertainment,Live Music
ATTACH;FMTTYPE=image/jpeg:https://downtownspokane.org/wp-content/uploads/2026/01/Verdi-Requiem1-hidIWa.jpg
ORGANIZER;CN="Olive Merle Creed":MAILTO:merlecreed@spokanesymphony.org
GEO:47.6570930;-117.4267260
X-APPLE-STRUCTURED-LOCATION;VALUE=URI;X-ADDRESS=Martin Woldson Theater at the Fox 1001 W. Sprague Ave. Spokane WA 99201 United States;X-APPLE-RADIUS=500;X-TITLE=1001 W. Sprague Ave.\,:geo:-117.4267260,47.6570930
END:VEVENT
BEGIN:VEVENT
DTSTART;TZID=America/Los_Angeles:20260430T193000
DTEND;TZID=America/Los_Angeles:20260430T213000
DTSTAMP:20260419T210933
CREATED:20260128T170737Z
LAST-MODIFIED:20260128T170737Z
UID:10038182-1777577400-1777584600@downtownspokane.org
SUMMARY:LeAnn Rimes: 30 Years of Blue
DESCRIPTION:LeAnn Rimes is an internationally acclaimed\, multi-platinum-selling artist whose genre-defying career has spanned nearly three decades. She has released 21 albums and 71 singles to radio worldwide\, including her latest\, All I Want for Christmas Is You\, which is currently the #1 Holiday Single of the Year (Mediabase Holiday Chart) and featured on her newly released Greatest Hits: Christmas album.
URL:https://downtownspokane.org/event/leann-rimes-30-years-of-blue-2/
LOCATION:Martin Woldson Theater at the Fox\, 1001 W. Sprague Ave.\,\, Spokane\, WA\, 99201\, United States
CATEGORIES:Art & Entertainment,Live Music
ATTACH;FMTTYPE=image/jpeg:https://downtownspokane.org/wp-content/uploads/2026/01/LeAnn-Rimes1-YUAJte.jpg
ORGANIZER;CN="Olive Merle Creed":MAILTO:merlecreed@spokanesymphony.org
GEO:47.6570930;-117.4267260
X-APPLE-STRUCTURED-LOCATION;VALUE=URI;X-ADDRESS=Martin Woldson Theater at the Fox 1001 W. Sprague Ave. Spokane WA 99201 United States;X-APPLE-RADIUS=500;X-TITLE=1001 W. Sprague Ave.\,:geo:-117.4267260,47.6570930
END:VEVENT
BEGIN:VEVENT
DTSTART;TZID=America/Los_Angeles:20260502T193000
DTEND;TZID=America/Los_Angeles:20260502T213000
DTSTAMP:20260419T210933
CREATED:20260128T170736Z
LAST-MODIFIED:20260128T170736Z
UID:10038181-1777750200-1777757400@downtownspokane.org
SUMMARY:Batman™ 1989 in Concert with Film
DESCRIPTION:It’s the caped crusader like never before as the Spokane Symphony performs Danny Elfman’s iconic score alongside the screening of the original 1989 DC Superhero film Batman. Relive the incredible performances of Michael Keaton\, Jack Nicholson and the rest of the stellar cast in an immersive experience that is fun for all fans.
URL:https://downtownspokane.org/event/batman-1989-in-concert-with-film-2/
LOCATION:Martin Woldson Theater at the Fox\, 1001 W. Sprague Ave.\,\, Spokane\, WA\, 99201\, United States
CATEGORIES:Art & Entertainment,Live Music
ATTACH;FMTTYPE=image/jpeg:https://downtownspokane.org/wp-content/uploads/2026/01/Batman-RDpfe4.jpg
ORGANIZER;CN="Olive Merle Creed":MAILTO:merlecreed@spokanesymphony.org
GEO:47.6570930;-117.4267260
X-APPLE-STRUCTURED-LOCATION;VALUE=URI;X-ADDRESS=Martin Woldson Theater at the Fox 1001 W. Sprague Ave. Spokane WA 99201 United States;X-APPLE-RADIUS=500;X-TITLE=1001 W. Sprague Ave.\,:geo:-117.4267260,47.6570930
END:VEVENT
BEGIN:VEVENT
DTSTART;TZID=America/Los_Angeles:20260509T193000
DTEND;TZID=America/Los_Angeles:20260509T213000
DTSTAMP:20260419T210933
CREATED:20260128T170735Z
LAST-MODIFIED:20260128T170735Z
UID:10038180-1778355000-1778362200@downtownspokane.org
SUMMARY:Spokane Symphony Masterworks 9: To America
DESCRIPTION:Masterworks 9 opens with a new commission from longtime Symphony friend Sydney Guillaume. Rachmaninoff’s Rhapsody on a Theme of Paganini is a virtuosic masterpiece that fuses Russian heritage with American influences. After intermission\, Bartók’s Concerto for Orchestra showcases the orchestra in vivid colors and textures\, capturing the resilience and adaptability of a composer who embraced his new world.
URL:https://downtownspokane.org/event/spokane-symphony-masterworks-9-to-america-2/
LOCATION:Martin Woldson Theater at the Fox\, 1001 W. Sprague Ave.\,\, Spokane\, WA\, 99201\, United States
CATEGORIES:Art & Entertainment,Live Music
ATTACH;FMTTYPE=image/jpeg:https://downtownspokane.org/wp-content/uploads/2026/01/MW9-GpGbw9.jpg
ORGANIZER;CN="Olive Merle Creed":MAILTO:merlecreed@spokanesymphony.org
GEO:47.6570930;-117.4267260
X-APPLE-STRUCTURED-LOCATION;VALUE=URI;X-ADDRESS=Martin Woldson Theater at the Fox 1001 W. Sprague Ave. Spokane WA 99201 United States;X-APPLE-RADIUS=500;X-TITLE=1001 W. Sprague Ave.\,:geo:-117.4267260,47.6570930
END:VEVENT
END:VCALENDAR