BEGIN:VCALENDAR
VERSION:2.0
PRODID:-//Downtown Spokane Partnership - ECPv6.15.17.1//NONSGML v1.0//EN
CALSCALE:GREGORIAN
METHOD:PUBLISH
X-ORIGINAL-URL:https://downtownspokane.org
X-WR-CALDESC:Events for Downtown Spokane Partnership
REFRESH-INTERVAL;VALUE=DURATION:PT1H
X-Robots-Tag:noindex
X-PUBLISHED-TTL:PT1H
BEGIN:VTIMEZONE
TZID:America/Los_Angeles
BEGIN:DAYLIGHT
TZOFFSETFROM:-0800
TZOFFSETTO:-0700
TZNAME:PDT
DTSTART:20250309T100000
END:DAYLIGHT
BEGIN:STANDARD
TZOFFSETFROM:-0700
TZOFFSETTO:-0800
TZNAME:PST
DTSTART:20251102T090000
END:STANDARD
BEGIN:DAYLIGHT
TZOFFSETFROM:-0800
TZOFFSETTO:-0700
TZNAME:PDT
DTSTART:20260308T100000
END:DAYLIGHT
BEGIN:STANDARD
TZOFFSETFROM:-0700
TZOFFSETTO:-0800
TZNAME:PST
DTSTART:20261101T090000
END:STANDARD
BEGIN:DAYLIGHT
TZOFFSETFROM:-0800
TZOFFSETTO:-0700
TZNAME:PDT
DTSTART:20270314T100000
END:DAYLIGHT
BEGIN:STANDARD
TZOFFSETFROM:-0700
TZOFFSETTO:-0800
TZNAME:PST
DTSTART:20271107T090000
END:STANDARD
END:VTIMEZONE
BEGIN:VEVENT
DTSTART;TZID=America/Los_Angeles:20260313T100000
DTEND;TZID=America/Los_Angeles:20260405T160000
DTSTAMP:20260421T121755
CREATED:20260306T003009Z
LAST-MODIFIED:20260306T003009Z
UID:10038495-1773396000-1775404800@downtownspokane.org
SUMMARY:Bunny Photos at River Park Square
DESCRIPTION:Join the fun and make lasting memories with your loved ones this Easter season at River Park Square! From photo sessions with the Easter Bunny to special events like Caring Bunny\, Pet Photos\, and the Bunny Hop\, there’s something for everyone to enjoy. \nKIDZ BOP Bunny Dance Parties:\nHop into the fun with KIDZ BOP Bunny Dance Parties! Every hour on the hour\, families can join Bunny for a fun KIDZ BOP dance party made just for kids. With easy-to-follow moves and upbeat music\, it’s high-energy\, totally kid-approved\, and guaranteed to bring smiles all around! \nReservation Perks:\nFamilies who reserve their Bunny Magic experience in advance will receive exclusive partner perks thanks to Cherry Hill Programs’ reservation partners. Each online reservation includes three free months of the Crayola Scribble Scrubbie Pets App and more! \nWe’re here to make your Easter experience extra special! If you have any questions or need assistance with your Easter Bunny photo session\, please contact the Cherry Hill Programs customer service team at customerservice@cherryhillprograms.com or River Park Square management at marketing@corealestategroup.com.
URL:https://downtownspokane.org/event/bunny-photos-at-river-park-square/
LOCATION:River Park Square\, 808 W Main Ave\,\, Spokane\, WA\, 99201\, United States
CATEGORIES:Annual,Art & Entertainment,Easter,Family
ATTACH;FMTTYPE=image/png:https://downtownspokane.org/wp-content/uploads/2026/03/Bunny-Photos-1920x1080-3.png
ORGANIZER;CN="River Park Square":MAILTO:marketing@riverparksquare.com
GEO:47.6593642;-117.4238400
X-APPLE-STRUCTURED-LOCATION;VALUE=URI;X-ADDRESS=River Park Square 808 W Main Ave Spokane WA 99201 United States;X-APPLE-RADIUS=500;X-TITLE=808 W Main Ave\,:geo:-117.4238400,47.6593642
END:VEVENT
BEGIN:VEVENT
DTSTART;TZID=America/Los_Angeles:20260329T110000
DTEND;TZID=America/Los_Angeles:20260425T200000
DTSTAMP:20260421T121755
CREATED:20260318T144804Z
LAST-MODIFIED:20260318T144804Z
UID:10038724-1774782000-1777147200@downtownspokane.org
SUMMARY:In April the Liberty Gallery presents "Resilience: The Power of Joy"
DESCRIPTION:From small fleeting moments to a conscientious way of life\, Joy is the thread that holds our lives together. More than just the silver lining we see on the edge of clouds\, joy helps us find meaning\, purpose\, and the courage to take the next step. \nInterpretations of Joy are represented in different forms of printmaking\, such as intaglio and relief printing\, from linoleum\, wood carving\, and letterpress printing by members of the Spokane Print & Publishing Center. \nYou can view the show this April in the Liberty Gallery (above Aunties Bookstore) ~ stop by on First Friday April 3rd from 5-8pm to meet the artists!
URL:https://downtownspokane.org/event/in-april-the-liberty-gallery-presents-resilience-the-power-of-joy/
LOCATION:Liberty Gallery in the Historic Liberty Building\, 203 N Washington\,\, Spokane\, WA\, 99201\, United States
CATEGORIES:Art & Entertainment,First Friday,Visual Art
ATTACH;FMTTYPE=image/jpeg:https://downtownspokane.org/wp-content/uploads/2026/03/Joy-Thom-Caraway.jpg
ORGANIZER;CN="S. Reynolds":MAILTO:conreyn@newwave.net
GEO:47.6593064;-117.4183048
X-APPLE-STRUCTURED-LOCATION;VALUE=URI;X-ADDRESS=Liberty Gallery in the Historic Liberty Building 203 N Washington Spokane WA 99201 United States;X-APPLE-RADIUS=500;X-TITLE=203 N Washington\,:geo:-117.4183048,47.6593064
END:VEVENT
BEGIN:VEVENT
DTSTART;TZID=America/Los_Angeles:20260401T174500
DTEND;TZID=America/Los_Angeles:20260401T203000
DTSTAMP:20260421T121755
CREATED:20260302T214003Z
LAST-MODIFIED:20260302T214003Z
UID:10038283-1775065500-1775075400@downtownspokane.org
SUMMARY:Wine Pairing Dinner with Small Vineyards
DESCRIPTION:Discover the art of winemaking and Italian cuisine in this exclusive dining experience with renowned winemaker Antonio Sanguineti. Enjoy a multi-course Italian dinner prepared by The Kitchen Engine team as each dish is introduced and explained during the meal. Antonio\, a third-generation winemaker and founding partner of August Imports\, will pour exceptional wines\, share tasting notes\, and tell stories of European wine history. \nYou’ll sample each wine\, savor authentic Italian flavors\, and take home all the recipes to recreate the experience. Wines will be available for purchase after class\, and guests will receive a special discount.
URL:https://downtownspokane.org/event/wine-pairing-dinner-with-small-vineyards-5/
LOCATION:The Kitchen Engine\, 621 W Mallon Ave\, #416 Flour Mill\, Spokane\, WA\, 99201\, United States
CATEGORIES:Art & Entertainment,Beer / Wine / Cocktail,Cuisine
ATTACH;FMTTYPE=image/jpeg:https://downtownspokane.org/wp-content/uploads/2026/03/Screenshot-2026-02-03-121259.jpg
ORGANIZER;CN="Jamie Aquino":MAILTO:jamiea@thekitchenengine.com
GEO:47.6652132;-117.422152
X-APPLE-STRUCTURED-LOCATION;VALUE=URI;X-ADDRESS=The Kitchen Engine 621 W Mallon Ave #416 Flour Mill Spokane WA 99201 United States;X-APPLE-RADIUS=500;X-TITLE=621 W Mallon Ave\, #416 Flour Mill:geo:-117.422152,47.6652132
END:VEVENT
BEGIN:VEVENT
DTSTART;TZID=America/Los_Angeles:20260401T180000
DTEND;TZID=America/Los_Angeles:20260401T200000
DTSTAMP:20260421T121755
CREATED:20260319T210749Z
LAST-MODIFIED:20260319T211939Z
UID:10039165-1775066400-1775073600@downtownspokane.org
SUMMARY:High School Soccer at ONE Spokane Stadium
DESCRIPTION:Cheer on local Spokane Public School high schools as they go head to head on the soccer field at ONE Spokane Stadium. \nMarch 19: Deer Park vs. North Central\nMarch 19: Cheney vs. Ferris\nMarch 20: Lakeside vs. Shadle Park\nMarch 20: Union vs. Lewis & Clark\nMarch 23: Rogers vs. North Central\nMarch 24: Ferris vs. Lewis & Clark\nMarch 26: West Valley vs. North Central\nMarch 27: Ridgeline vs. Shadle Park\nMarch 30: Wenatchee vs. Lewis & Clark\nMarch 30: North Central vs. Shadle Park\nMarch 31: East Valley vs. Rogers\nApril 1: Shadle Park vs. Lewis & CLark\nApril 2: Clarkston vs. Rogers\nApril 2: University vs. North Central\nApril 15: Cheney vs. Lewis & Clark\nApril 15: Mead vs. Shadle Park\nApril 16: Pullman vs. Rogers\nApril 16: East Valley vs. North Central\nApril 17: Central Valley vs. Shadle Park\nApril 17: Mt. Spokane vs. Ferris\nApril 22: Ridgeline vs. Ferris\nApril 22: Cheney vs. Shadle Park\nApril 23: North Central vs. Rogers\nApril 24: Cheney vs. Ferris\nApril 28: Deer Park vs. Rogers\nApril 29: Gonzaga Prep vs. Shadle Park\nApril 29: Mt. Spokane vs. Lewis & Clark\nApril 30: Clarkston vs. North Central\nMay 1: Ridgeline vs. Lewis & Clark\nMay 1: Shadle Park vs. Ferris
URL:https://downtownspokane.org/event/high-school-soccer-at-one-spokane-stadium/2026-04-01/
LOCATION:ONE Spokane Stadium\, 501 W Gardner\,\, Spokane\, WA\, 99201\, United States
CATEGORIES:Art & Entertainment,Sports Entertainment
ATTACH;FMTTYPE=image/png:https://downtownspokane.org/wp-content/uploads/2026/03/1bb5fe0d-054e-4339-ab77-ee789b000cd3.png
GEO:47.6673630;-117.4203670
X-APPLE-STRUCTURED-LOCATION;VALUE=URI;X-ADDRESS=ONE Spokane Stadium 501 W Gardner Spokane WA 99201 United States;X-APPLE-RADIUS=500;X-TITLE=501 W Gardner\,:geo:-117.4203670,47.6673630
END:VEVENT
BEGIN:VEVENT
DTSTART;TZID=America/Los_Angeles:20260401T190000
DTEND;TZID=America/Los_Angeles:20260401T203000
DTSTAMP:20260421T121755
CREATED:20260320T180944Z
LAST-MODIFIED:20260320T180944Z
UID:10039196-1775070000-1775075400@downtownspokane.org
SUMMARY:Open Mic Night
DESCRIPTION:Every Wednesday night at Spokane Comedy Club we have OPEN-MIC NIGHT! This is where dreams are made\, and nightmares come true. This night has everything from professional comedians working out new material\, to comics getting on stage for the very first time. The best part is\, IT IS FREE! There is no cost to attend open-mic night\, and it is happy hour all night. So if you want to get a laugh\, feel better about your life\, and have a couple drinks\, then Spokane Comedy Club is the place to be on Wednesday nights! \nComedians Looking To Perform: \nWe schedule our open-mic a month at a time to allow you to invite your friends and know you will be performing without driving and waiting in line for no reason! If you wish to perform at the open mic\, click HERE and fill out our google form with your available dates. \nSign-ups must be completed by the 15th of each month\, and we will post the list by the end of the month at www.openmicer.com. \nIf you are a “no-show” for your spot\, you will be ineligible for a spot for 2 months\, so PLEASE check the website. \nIf you are not selected we still encourage you to come watch the show. If you arrive between 6 and 7 you can sign up for a drawing. We pick 3 comics from our “lucky bucket” to perform. You will get up to 4 minutes of stage time. Please e-mail if you have any questions. \nThank you\, and we hope to be laughing with you soon!
URL:https://downtownspokane.org/event/open-mic-night/
LOCATION:Spokane Comedy Club\, 315 W Sprague Ave\,\, Spokane\, WA\, 99201\, United States
CATEGORIES:Art & Entertainment,Comedy
ATTACH;FMTTYPE=image/png:https://downtownspokane.org/wp-content/uploads/2026/03/data-7.png
GEO:47.6570176;-117.4168088
X-APPLE-STRUCTURED-LOCATION;VALUE=URI;X-ADDRESS=Spokane Comedy Club 315 W Sprague Ave Spokane WA 99201 United States;X-APPLE-RADIUS=500;X-TITLE=315 W Sprague Ave\,:geo:-117.4168088,47.6570176
END:VEVENT
BEGIN:VEVENT
DTSTART;TZID=America/Los_Angeles:20260401T193000
DTEND;TZID=America/Los_Angeles:20260401T230000
DTSTAMP:20260421T121755
CREATED:20260128T170513Z
LAST-MODIFIED:20260128T170513Z
UID:10038162-1775071800-1775084400@downtownspokane.org
SUMMARY:Hairball Presented by 103.9 BOB FM
DESCRIPTION:HAIRBALL – The Bombastic Celebration of Arena Rock is returning to First Interstate Center for the Arts on Wednesday\, April 1.\nCelebrating 25 years of turning concerts into full-blown rock spectacles\, Hairball continues to bring the ultimate 80s Rock & Roll tribute to fans across the nation. With heart-pounding accuracy\, they recreate the iconic sound and style of legends like Van Halen\, KISS\, Motley Crue\, and Queen\, transforming the stage into an ever-changing tribute to rock history. Packed with pyrotechnics\, lights\, and surprises\, every Hairball show is a larger-than-life experience. For two and a half decades\, they’ve ignited crowds with their passion for Rock & Roll\, proving they’re still at the top of their game!
URL:https://downtownspokane.org/event/hairball-presented-by-103-9-bob-fm-2/
LOCATION:First Interstate Center for Arts\, 334 W Spokane Falls Blvd\,\, Spokane\, WA\, 99201\, United States
CATEGORIES:Art & Entertainment,Live Music
ATTACH;FMTTYPE=image/jpeg:https://downtownspokane.org/wp-content/uploads/2026/01/1080x1080_Hairball_1-awiSjg.jpg
ORGANIZER;CN="Tina Gallegos":MAILTO:tgallegos@spokanepfd.org
GEO:47.6602011;-117.4175034
X-APPLE-STRUCTURED-LOCATION;VALUE=URI;X-ADDRESS=First Interstate Center for Arts 334 W Spokane Falls Blvd Spokane WA 99201 United States;X-APPLE-RADIUS=500;X-TITLE=334 W Spokane Falls Blvd\,:geo:-117.4175034,47.6602011
END:VEVENT
END:VCALENDAR