BEGIN:VCALENDAR
VERSION:2.0
PRODID:-//Downtown Spokane Partnership - ECPv6.15.17.1//NONSGML v1.0//EN
CALSCALE:GREGORIAN
METHOD:PUBLISH
X-WR-CALNAME:Downtown Spokane Partnership
X-ORIGINAL-URL:https://downtownspokane.org
X-WR-CALDESC:Events for Downtown Spokane Partnership
REFRESH-INTERVAL;VALUE=DURATION:PT1H
X-Robots-Tag:noindex
X-PUBLISHED-TTL:PT1H
BEGIN:VTIMEZONE
TZID:America/Los_Angeles
BEGIN:DAYLIGHT
TZOFFSETFROM:-0800
TZOFFSETTO:-0700
TZNAME:PDT
DTSTART:20250309T100000
END:DAYLIGHT
BEGIN:STANDARD
TZOFFSETFROM:-0700
TZOFFSETTO:-0800
TZNAME:PST
DTSTART:20251102T090000
END:STANDARD
BEGIN:DAYLIGHT
TZOFFSETFROM:-0800
TZOFFSETTO:-0700
TZNAME:PDT
DTSTART:20260308T100000
END:DAYLIGHT
BEGIN:STANDARD
TZOFFSETFROM:-0700
TZOFFSETTO:-0800
TZNAME:PST
DTSTART:20261101T090000
END:STANDARD
BEGIN:DAYLIGHT
TZOFFSETFROM:-0800
TZOFFSETTO:-0700
TZNAME:PDT
DTSTART:20270314T100000
END:DAYLIGHT
BEGIN:STANDARD
TZOFFSETFROM:-0700
TZOFFSETTO:-0800
TZNAME:PST
DTSTART:20271107T090000
END:STANDARD
END:VTIMEZONE
BEGIN:VEVENT
DTSTART;TZID=America/Los_Angeles:20260329T110000
DTEND;TZID=America/Los_Angeles:20260425T200000
DTSTAMP:20260423T065554
CREATED:20260318T144804Z
LAST-MODIFIED:20260318T144804Z
UID:10038724-1774782000-1777147200@downtownspokane.org
SUMMARY:In April the Liberty Gallery presents "Resilience: The Power of Joy"
DESCRIPTION:From small fleeting moments to a conscientious way of life\, Joy is the thread that holds our lives together. More than just the silver lining we see on the edge of clouds\, joy helps us find meaning\, purpose\, and the courage to take the next step. \nInterpretations of Joy are represented in different forms of printmaking\, such as intaglio and relief printing\, from linoleum\, wood carving\, and letterpress printing by members of the Spokane Print & Publishing Center. \nYou can view the show this April in the Liberty Gallery (above Aunties Bookstore) ~ stop by on First Friday April 3rd from 5-8pm to meet the artists!
URL:https://downtownspokane.org/event/in-april-the-liberty-gallery-presents-resilience-the-power-of-joy/
LOCATION:Liberty Gallery in the Historic Liberty Building\, 203 N Washington\,\, Spokane\, WA\, 99201\, United States
CATEGORIES:Art & Entertainment,First Friday,Visual Art
ATTACH;FMTTYPE=image/jpeg:https://downtownspokane.org/wp-content/uploads/2026/03/Joy-Thom-Caraway.jpg
ORGANIZER;CN="S. Reynolds":MAILTO:conreyn@newwave.net
GEO:47.6593064;-117.4183048
X-APPLE-STRUCTURED-LOCATION;VALUE=URI;X-ADDRESS=Liberty Gallery in the Historic Liberty Building 203 N Washington Spokane WA 99201 United States;X-APPLE-RADIUS=500;X-TITLE=203 N Washington\,:geo:-117.4183048,47.6593064
END:VEVENT
BEGIN:VEVENT
DTSTART;TZID=America/Los_Angeles:20260403T170000
DTEND;TZID=America/Los_Angeles:20260424T170000
DTSTAMP:20260423T065554
CREATED:20260325T204119Z
LAST-MODIFIED:20260325T204119Z
UID:10039206-1775235600-1777050000@downtownspokane.org
SUMMARY:Mentor: Regional Ceramics Instructors and Students.
DESCRIPTION:‘Mentor’ features the ceramic work of regional collegiate instructors and their students. Schools include Gonzaga\, SFCC\, Whitworth\, EWU\, WSU\, and U of I.\nApril 3- 24\, Opening reception April 3\, 5-8pm and Saturday April 4\, 12-4pm.
URL:https://downtownspokane.org/event/mentor-regional-ceramics-instructors-and-students/
LOCATION:Trackside Studio Ceramic Art Gallery\, 115 S Adams St\,\, Spokane\, WA\, 99201\, United States
CATEGORIES:Art & Entertainment,First Friday,Visual Art
ATTACH;FMTTYPE=image/jpeg:https://downtownspokane.org/wp-content/uploads/2026/03/Acceptance_katthomas-scaled.jpeg
ORGANIZER;CN="Chris Kelsey":MAILTO:trackside@tracksidestudio.net
GEO:47.6561721;-117.4309805
X-APPLE-STRUCTURED-LOCATION;VALUE=URI;X-ADDRESS=Trackside Studio Ceramic Art Gallery 115 S Adams St Spokane WA 99201 United States;X-APPLE-RADIUS=500;X-TITLE=115 S Adams St\,:geo:-117.4309805,47.6561721
END:VEVENT
BEGIN:VEVENT
DTSTART;TZID=America/Los_Angeles:20260419T110000
DTEND;TZID=America/Los_Angeles:20260419T180000
DTSTAMP:20260423T065554
CREATED:20260329T230513Z
LAST-MODIFIED:20260407T004927Z
UID:10039233-1776596400-1776621600@downtownspokane.org
SUMMARY:What's on the other side: Works by JJ Harty
DESCRIPTION:We exist in a moment of over-stimulation and information saturation\, a moment where a short descriptive paragraph can create a beautiful\, sparkling image for us\, but then be quickly forgotten and dissolved back into the ether of the internet.This work is a playful way to make commentary on the serious questions about AI art. Using very simple pre-programmed vacuuming/mopping robots with some minimal modifications I wrangle the robots to produce something visually interesting. The catch is\, just like AI\, these robots cannot do it on their own. They need input and a lot of help from a person to make the art.
URL:https://downtownspokane.org/event/whats-on-the-other-side-works-by-jj-harty/2026-04-19/
LOCATION:Entropy\, 101 N. Stevens St.\,\, Spokane\, WA\, 99201\, United States
CATEGORIES:Visual Art
ATTACH;FMTTYPE=image/jpeg:https://downtownspokane.org/wp-content/uploads/2026/03/DSCF7966-scaled.jpg
ORGANIZER;CN="Rob Mckirdie":MAILTO:entropyartgallery@gmail.com
GEO:47.6586340;-117.4194260
X-APPLE-STRUCTURED-LOCATION;VALUE=URI;X-ADDRESS=Entropy 101 N. Stevens St. Spokane WA 99201 United States;X-APPLE-RADIUS=500;X-TITLE=101 N. Stevens St.\,:geo:-117.4194260,47.6586340
END:VEVENT
BEGIN:VEVENT
DTSTART;TZID=America/Los_Angeles:20260419T150000
DTEND;TZID=America/Los_Angeles:20260419T170000
DTSTAMP:20260423T065554
CREATED:20260318T144652Z
LAST-MODIFIED:20260318T144652Z
UID:10038722-1776610800-1776618000@downtownspokane.org
SUMMARY:American Songbook: Whitworth Community Chorale & Community Concert Band Spring Concert
DESCRIPTION:The Whitworth Community Concert Band and Community Chorale present their spring concert\, American Songbook. Whitworth’s community ensembles feature Whitworth students\, alumni\, faculty\, staff and community members. The 60+ member Community band is under the direction of Kyla Fague and Richard Strauch\, DMA. The 100+ Community Chorale is directed by Scott Davis.
URL:https://downtownspokane.org/event/american-songbook-whitworth-community-chorale-community-concert-band-spring-concert/
LOCATION:Martin Woldson Theater at the Fox\, 1001 W. Sprague Ave.\,\, Spokane\, WA\, 99201\, United States
CATEGORIES:Art & Entertainment,Live Music
ATTACH;FMTTYPE=image/jpeg:https://downtownspokane.org/wp-content/uploads/2026/03/Community-Ensembles-25SP-1.jpg
ORGANIZER;CN="Whitworth Music Department":MAILTO:music@whitworth.edu
GEO:47.6570930;-117.4267260
X-APPLE-STRUCTURED-LOCATION;VALUE=URI;X-ADDRESS=Martin Woldson Theater at the Fox 1001 W. Sprague Ave. Spokane WA 99201 United States;X-APPLE-RADIUS=500;X-TITLE=1001 W. Sprague Ave.\,:geo:-117.4267260,47.6570930
END:VEVENT
BEGIN:VEVENT
DTSTART;TZID=America/Los_Angeles:20260419T160000
DTEND;TZID=America/Los_Angeles:20260419T180000
DTSTAMP:20260423T065554
CREATED:20260318T194353Z
LAST-MODIFIED:20260318T194353Z
UID:10039123-1776614400-1776621600@downtownspokane.org
SUMMARY:NEW Class - Sushi 101\, Nigiri and Maki Rolls with Reeva
DESCRIPTION:Discover the art of sushi in this hands-on beginner class with instructor Reeva. Learn essential techniques like slicing fish\, preparing seasoned sushi rice\, and shaping nigiri. You’ll also roll two classic maki rolls while working with nori\, bamboo mats\, and balanced fillings. By the end\, you’ll create a beautiful platter including nigiri\, a spicy tuna roll\, and a rainbow roll. Reeva\, a sushi chef and food photographer\, will also share simple plating tips to make your sushi look as good as it tastes. \nMenu: Nigiri\, Spicy Tuna Roll\, Rainbow Roll
URL:https://downtownspokane.org/event/new-class-sushi-101-nigiri-and-maki-rolls-with-reeva/2026-04-19/
LOCATION:The Kitchen Engine\, 621 W Mallon Ave\, #416 Flour Mill\, Spokane\, WA\, 99201\, United States
CATEGORIES:Art & Entertainment,Cuisine
ATTACH;FMTTYPE=image/jpeg:https://downtownspokane.org/wp-content/uploads/2026/03/Sushi.jpg
ORGANIZER;CN="Jamie Aquino":MAILTO:jamiea@thekitchenengine.com
GEO:47.6652132;-117.422152
X-APPLE-STRUCTURED-LOCATION;VALUE=URI;X-ADDRESS=The Kitchen Engine 621 W Mallon Ave #416 Flour Mill Spokane WA 99201 United States;X-APPLE-RADIUS=500;X-TITLE=621 W Mallon Ave\, #416 Flour Mill:geo:-117.422152,47.6652132
END:VEVENT
BEGIN:VEVENT
DTSTART;TZID=America/Los_Angeles:20260419T160000
DTEND;TZID=America/Los_Angeles:20260419T180000
DTSTAMP:20260423T065554
CREATED:20260319T183711Z
LAST-MODIFIED:20260319T183711Z
UID:10039129-1776614400-1776621600@downtownspokane.org
SUMMARY:Spokane Zephyr FC Home Match
DESCRIPTION:Come to ONE Spokane Stadium to watch Spokane Zephyr FC defend their home turf for an action packed match! \nMarch 21: DC Power FC\nApril 19: Sporting Club Jacksonville\nApril 26: Fort Lauderdale United FC\nMay 2: Lexington Sporting Club\nMay 9: DC Power FC\nMay 16: Brooklyn FC
URL:https://downtownspokane.org/event/spokane-zephyr-fc-home-match/2026-04-19/
LOCATION:ONE Spokane Stadium\, 501 W Gardner\,\, Spokane\, WA\, 99201\, United States
CATEGORIES:Art & Entertainment,Sports Entertainment
ATTACH;FMTTYPE=image/png:https://downtownspokane.org/wp-content/uploads/2026/03/29202677-206c-45cd-859a-abc3fc73b225-e1773945366725.png
GEO:47.6673630;-117.4203670
X-APPLE-STRUCTURED-LOCATION;VALUE=URI;X-ADDRESS=ONE Spokane Stadium 501 W Gardner Spokane WA 99201 United States;X-APPLE-RADIUS=500;X-TITLE=501 W Gardner\,:geo:-117.4203670,47.6673630
END:VEVENT
END:VCALENDAR