BEGIN:VCALENDAR
VERSION:2.0
PRODID:-//Downtown Spokane Partnership - ECPv6.15.17.1//NONSGML v1.0//EN
CALSCALE:GREGORIAN
METHOD:PUBLISH
X-WR-CALNAME:Downtown Spokane Partnership
X-ORIGINAL-URL:https://downtownspokane.org
X-WR-CALDESC:Events for Downtown Spokane Partnership
REFRESH-INTERVAL;VALUE=DURATION:PT1H
X-Robots-Tag:noindex
X-PUBLISHED-TTL:PT1H
BEGIN:VTIMEZONE
TZID:America/Los_Angeles
BEGIN:DAYLIGHT
TZOFFSETFROM:-0800
TZOFFSETTO:-0700
TZNAME:PDT
DTSTART:20250309T100000
END:DAYLIGHT
BEGIN:STANDARD
TZOFFSETFROM:-0700
TZOFFSETTO:-0800
TZNAME:PST
DTSTART:20251102T090000
END:STANDARD
BEGIN:DAYLIGHT
TZOFFSETFROM:-0800
TZOFFSETTO:-0700
TZNAME:PDT
DTSTART:20260308T100000
END:DAYLIGHT
BEGIN:STANDARD
TZOFFSETFROM:-0700
TZOFFSETTO:-0800
TZNAME:PST
DTSTART:20261101T090000
END:STANDARD
BEGIN:DAYLIGHT
TZOFFSETFROM:-0800
TZOFFSETTO:-0700
TZNAME:PDT
DTSTART:20270314T100000
END:DAYLIGHT
BEGIN:STANDARD
TZOFFSETFROM:-0700
TZOFFSETTO:-0800
TZNAME:PST
DTSTART:20271107T090000
END:STANDARD
END:VTIMEZONE
BEGIN:VEVENT
DTSTART;TZID=America/Los_Angeles:20260329T110000
DTEND;TZID=America/Los_Angeles:20260425T200000
DTSTAMP:20260423T041430
CREATED:20260318T144804Z
LAST-MODIFIED:20260318T144804Z
UID:10038724-1774782000-1777147200@downtownspokane.org
SUMMARY:In April the Liberty Gallery presents "Resilience: The Power of Joy"
DESCRIPTION:From small fleeting moments to a conscientious way of life\, Joy is the thread that holds our lives together. More than just the silver lining we see on the edge of clouds\, joy helps us find meaning\, purpose\, and the courage to take the next step. \nInterpretations of Joy are represented in different forms of printmaking\, such as intaglio and relief printing\, from linoleum\, wood carving\, and letterpress printing by members of the Spokane Print & Publishing Center. \nYou can view the show this April in the Liberty Gallery (above Aunties Bookstore) ~ stop by on First Friday April 3rd from 5-8pm to meet the artists!
URL:https://downtownspokane.org/event/in-april-the-liberty-gallery-presents-resilience-the-power-of-joy/
LOCATION:Liberty Gallery in the Historic Liberty Building\, 203 N Washington\,\, Spokane\, WA\, 99201\, United States
CATEGORIES:Art & Entertainment,First Friday,Visual Art
ATTACH;FMTTYPE=image/jpeg:https://downtownspokane.org/wp-content/uploads/2026/03/Joy-Thom-Caraway.jpg
ORGANIZER;CN="S. Reynolds":MAILTO:conreyn@newwave.net
GEO:47.6593064;-117.4183048
X-APPLE-STRUCTURED-LOCATION;VALUE=URI;X-ADDRESS=Liberty Gallery in the Historic Liberty Building 203 N Washington Spokane WA 99201 United States;X-APPLE-RADIUS=500;X-TITLE=203 N Washington\,:geo:-117.4183048,47.6593064
END:VEVENT
BEGIN:VEVENT
DTSTART;TZID=America/Los_Angeles:20260403T170000
DTEND;TZID=America/Los_Angeles:20260424T170000
DTSTAMP:20260423T041430
CREATED:20260325T204119Z
LAST-MODIFIED:20260325T204119Z
UID:10039206-1775235600-1777050000@downtownspokane.org
SUMMARY:Mentor: Regional Ceramics Instructors and Students.
DESCRIPTION:‘Mentor’ features the ceramic work of regional collegiate instructors and their students. Schools include Gonzaga\, SFCC\, Whitworth\, EWU\, WSU\, and U of I.\nApril 3- 24\, Opening reception April 3\, 5-8pm and Saturday April 4\, 12-4pm.
URL:https://downtownspokane.org/event/mentor-regional-ceramics-instructors-and-students/
LOCATION:Trackside Studio Ceramic Art Gallery\, 115 S Adams St\,\, Spokane\, WA\, 99201\, United States
CATEGORIES:Art & Entertainment,First Friday,Visual Art
ATTACH;FMTTYPE=image/jpeg:https://downtownspokane.org/wp-content/uploads/2026/03/Acceptance_katthomas-scaled.jpeg
ORGANIZER;CN="Chris Kelsey":MAILTO:trackside@tracksidestudio.net
GEO:47.6561721;-117.4309805
X-APPLE-STRUCTURED-LOCATION;VALUE=URI;X-ADDRESS=Trackside Studio Ceramic Art Gallery 115 S Adams St Spokane WA 99201 United States;X-APPLE-RADIUS=500;X-TITLE=115 S Adams St\,:geo:-117.4309805,47.6561721
END:VEVENT
BEGIN:VEVENT
DTSTART;VALUE=DATE:20260421
DTEND;VALUE=DATE:20260425
DTSTAMP:20260423T041430
CREATED:20260326T205629Z
LAST-MODIFIED:20260326T205629Z
UID:10039212-1776729600-1777075199@downtownspokane.org
SUMMARY:GSI Fly-In
DESCRIPTION:Join leaders from the Greater Spokane region in Washington\, D.C.\, April 21–24 for the 2026 D.C. Fly-In — a unique advocacy opportunity to elevate Spokane’s priorities with federal policymakers. Organized by Greater Spokane Incorporated\, this event brings together businesses\, civic partners\, and community leaders to drive national impact. \nLearn More
URL:https://downtownspokane.org/event/gsi-fly-in/
CATEGORIES:Business to Business,Downtown Spokane Partnership,Trade Shows and Expos
ATTACH;FMTTYPE=image/png:https://downtownspokane.org/wp-content/uploads/2026/03/tmp_5129_2-6-2026_64646_.png
END:VEVENT
BEGIN:VEVENT
DTSTART;TZID=America/Los_Angeles:20260421T110000
DTEND;TZID=America/Los_Angeles:20260421T180000
DTSTAMP:20260423T041430
CREATED:20260329T230513Z
LAST-MODIFIED:20260407T004927Z
UID:10039235-1776769200-1776794400@downtownspokane.org
SUMMARY:What's on the other side: Works by JJ Harty
DESCRIPTION:We exist in a moment of over-stimulation and information saturation\, a moment where a short descriptive paragraph can create a beautiful\, sparkling image for us\, but then be quickly forgotten and dissolved back into the ether of the internet.This work is a playful way to make commentary on the serious questions about AI art. Using very simple pre-programmed vacuuming/mopping robots with some minimal modifications I wrangle the robots to produce something visually interesting. The catch is\, just like AI\, these robots cannot do it on their own. They need input and a lot of help from a person to make the art.
URL:https://downtownspokane.org/event/whats-on-the-other-side-works-by-jj-harty/2026-04-21/
LOCATION:Entropy\, 101 N. Stevens St.\,\, Spokane\, WA\, 99201\, United States
CATEGORIES:Visual Art
ATTACH;FMTTYPE=image/jpeg:https://downtownspokane.org/wp-content/uploads/2026/03/DSCF7966-scaled.jpg
ORGANIZER;CN="Rob Mckirdie":MAILTO:entropyartgallery@gmail.com
GEO:47.6586340;-117.4194260
X-APPLE-STRUCTURED-LOCATION;VALUE=URI;X-ADDRESS=Entropy 101 N. Stevens St. Spokane WA 99201 United States;X-APPLE-RADIUS=500;X-TITLE=101 N. Stevens St.\,:geo:-117.4194260,47.6586340
END:VEVENT
BEGIN:VEVENT
DTSTART;TZID=America/Los_Angeles:20260421T173000
DTEND;TZID=America/Los_Angeles:20260421T210000
DTSTAMP:20260423T041430
CREATED:20260420T234116Z
LAST-MODIFIED:20260420T234116Z
UID:10039703-1776792600-1776805200@downtownspokane.org
SUMMARY:Regenerating Life
DESCRIPTION:To celebrate Earth Day Soil Smart-Soil Wise will be hosting a viewing of the award-winning film\, Regenerating Earth by John Feldman. This will include a discussion with and a commitment from attendees about what can be done in Spokane to regenerate our city. We will stream Didi Pershouse\, one of the speakers in the film and a world-renown soil expert to share her thoughts and answer questions. Then we will discuss actions we can take to make Spokane more resilient in the coming heat.The doors will open at 5:30 PM with light refreshments and the programs ends at 9:00.
URL:https://downtownspokane.org/event/regenerating-life/
LOCATION:Magic Lantern Theatre\, 25 West Main Avenue\, #125\, Spokane\, Washington\, 99201\, United States
CATEGORIES:Film
ATTACH;FMTTYPE=image/png:https://downtownspokane.org/wp-content/uploads/2026/04/Screenshot-2026-03-08-at-3.08.56-PM.png
GEO:47.6590009;-117.4115148
X-APPLE-STRUCTURED-LOCATION;VALUE=URI;X-ADDRESS=Magic Lantern Theatre 25 West Main Avenue #125 Spokane Washington 99201 United States;X-APPLE-RADIUS=500;X-TITLE=25 West Main Avenue\, #125:geo:-117.4115148,47.6590009
END:VEVENT
END:VCALENDAR