BEGIN:VCALENDAR
VERSION:2.0
PRODID:-//Downtown Spokane Partnership - ECPv6.15.20//NONSGML v1.0//EN
CALSCALE:GREGORIAN
METHOD:PUBLISH
X-WR-CALNAME:Downtown Spokane Partnership
X-ORIGINAL-URL:https://downtownspokane.org
X-WR-CALDESC:Events for Downtown Spokane Partnership
REFRESH-INTERVAL;VALUE=DURATION:PT1H
X-Robots-Tag:noindex
X-PUBLISHED-TTL:PT1H
BEGIN:VTIMEZONE
TZID:America/Los_Angeles
BEGIN:DAYLIGHT
TZOFFSETFROM:-0800
TZOFFSETTO:-0700
TZNAME:PDT
DTSTART:20250309T100000
END:DAYLIGHT
BEGIN:STANDARD
TZOFFSETFROM:-0700
TZOFFSETTO:-0800
TZNAME:PST
DTSTART:20251102T090000
END:STANDARD
BEGIN:DAYLIGHT
TZOFFSETFROM:-0800
TZOFFSETTO:-0700
TZNAME:PDT
DTSTART:20260308T100000
END:DAYLIGHT
BEGIN:STANDARD
TZOFFSETFROM:-0700
TZOFFSETTO:-0800
TZNAME:PST
DTSTART:20261101T090000
END:STANDARD
BEGIN:DAYLIGHT
TZOFFSETFROM:-0800
TZOFFSETTO:-0700
TZNAME:PDT
DTSTART:20270314T100000
END:DAYLIGHT
BEGIN:STANDARD
TZOFFSETFROM:-0700
TZOFFSETTO:-0800
TZNAME:PST
DTSTART:20271107T090000
END:STANDARD
END:VTIMEZONE
BEGIN:VEVENT
DTSTART;TZID=America/Los_Angeles:20260329T110000
DTEND;TZID=America/Los_Angeles:20260425T200000
DTSTAMP:20260425T035346
CREATED:20260318T144804Z
LAST-MODIFIED:20260318T144804Z
UID:10038724-1774782000-1777147200@downtownspokane.org
SUMMARY:In April the Liberty Gallery presents "Resilience: The Power of Joy"
DESCRIPTION:From small fleeting moments to a conscientious way of life\, Joy is the thread that holds our lives together. More than just the silver lining we see on the edge of clouds\, joy helps us find meaning\, purpose\, and the courage to take the next step. \nInterpretations of Joy are represented in different forms of printmaking\, such as intaglio and relief printing\, from linoleum\, wood carving\, and letterpress printing by members of the Spokane Print & Publishing Center. \nYou can view the show this April in the Liberty Gallery (above Aunties Bookstore) ~ stop by on First Friday April 3rd from 5-8pm to meet the artists!
URL:https://downtownspokane.org/event/in-april-the-liberty-gallery-presents-resilience-the-power-of-joy/
LOCATION:Liberty Gallery in the Historic Liberty Building\, 203 N Washington\,\, Spokane\, WA\, 99201\, United States
CATEGORIES:Art & Entertainment,First Friday,Visual Art
ATTACH;FMTTYPE=image/jpeg:https://downtownspokane.org/wp-content/uploads/2026/03/Joy-Thom-Caraway.jpg
ORGANIZER;CN="S. Reynolds":MAILTO:conreyn@newwave.net
GEO:47.6593064;-117.4183048
X-APPLE-STRUCTURED-LOCATION;VALUE=URI;X-ADDRESS=Liberty Gallery in the Historic Liberty Building 203 N Washington Spokane WA 99201 United States;X-APPLE-RADIUS=500;X-TITLE=203 N Washington\,:geo:-117.4183048,47.6593064
END:VEVENT
BEGIN:VEVENT
DTSTART;TZID=America/Los_Angeles:20260425T090000
DTEND;TZID=America/Los_Angeles:20260425T210000
DTSTAMP:20260425T035346
CREATED:20260423T211930Z
LAST-MODIFIED:20260423T211930Z
UID:10039787-1777107600-1777150800@downtownspokane.org
SUMMARY:Independent Bookstore Day!
DESCRIPTION:It’s that time of year again! Join us in-store and online for giveaways\, exclusive merchandise\, and other special offerings for Independent Bookstore Day! You can check out the schedule of events on our website. Hope to see you there!
URL:https://downtownspokane.org/event/independent-bookstore-day/
LOCATION:Auntie’s Bookstore\, 402 W Main Ave\, #1st Fl Liberty Bldg\,\, Spokane\, WA\, 99201\, United States
CATEGORIES:Family,Literature
ATTACH;FMTTYPE=image/png:https://downtownspokane.org/wp-content/uploads/2026/04/IBD-LastSat-Logo-primary-scaled.png
ORGANIZER;CN="Auntie's Bookstore":MAILTO:events@auntiesbooks.com
GEO:47.65920089999999;-117.4183536
X-APPLE-STRUCTURED-LOCATION;VALUE=URI;X-ADDRESS=Auntie’s Bookstore 402 W Main Ave #1st Fl Liberty Bldg Spokane WA 99201 United States;X-APPLE-RADIUS=500;X-TITLE=402 W Main Ave\, #1st Fl Liberty Bldg\,:geo:-117.4183536,47.65920089999999
END:VEVENT
BEGIN:VEVENT
DTSTART;TZID=America/Los_Angeles:20260425T110000
DTEND;TZID=America/Los_Angeles:20260425T180000
DTSTAMP:20260425T035346
CREATED:20260329T230513Z
LAST-MODIFIED:20260407T004927Z
UID:10039239-1777114800-1777140000@downtownspokane.org
SUMMARY:What's on the other side: Works by JJ Harty
DESCRIPTION:We exist in a moment of over-stimulation and information saturation\, a moment where a short descriptive paragraph can create a beautiful\, sparkling image for us\, but then be quickly forgotten and dissolved back into the ether of the internet.This work is a playful way to make commentary on the serious questions about AI art. Using very simple pre-programmed vacuuming/mopping robots with some minimal modifications I wrangle the robots to produce something visually interesting. The catch is\, just like AI\, these robots cannot do it on their own. They need input and a lot of help from a person to make the art.
URL:https://downtownspokane.org/event/whats-on-the-other-side-works-by-jj-harty/2026-04-25/
LOCATION:Entropy\, 101 N. Stevens St.\,\, Spokane\, WA\, 99201\, United States
CATEGORIES:Visual Art
ATTACH;FMTTYPE=image/jpeg:https://downtownspokane.org/wp-content/uploads/2026/03/DSCF7966-scaled.jpg
ORGANIZER;CN="Rob Mckirdie":MAILTO:entropyartgallery@gmail.com
GEO:47.6586340;-117.4194260
X-APPLE-STRUCTURED-LOCATION;VALUE=URI;X-ADDRESS=Entropy 101 N. Stevens St. Spokane WA 99201 United States;X-APPLE-RADIUS=500;X-TITLE=101 N. Stevens St.\,:geo:-117.4194260,47.6586340
END:VEVENT
BEGIN:VEVENT
DTSTART;TZID=America/Los_Angeles:20260425T160000
DTEND;TZID=America/Los_Angeles:20260425T190000
DTSTAMP:20260425T035346
CREATED:20260316T154048Z
LAST-MODIFIED:20260316T154048Z
UID:10038554-1777132800-1777143600@downtownspokane.org
SUMMARY:50 Years of Movement - Bloomsday Exhibition
DESCRIPTION:Step into 50 years of Spokane’s greatest tradition! 50 Years of Movement brings the magic of Bloomsday to life through an immersive journey of rare memorabilia\, archival imagery\, and the iconic art that defines the race. From the evolution of the finisher shirt to the poster art of legendary artist Ken Spiering\, this exhibit celebrates the creativity and community spirit that moves us all. Come relive the memories and feel the pulse of five decades of Bloomsday. \n50 Years of Movement is open every Thursday\, Friday and Saturday from 4:00 – 7:00PM starting on April 4th\, 2026 – April 25th\, 2026. \nSponsored by Washington Trust Bank.
URL:https://downtownspokane.org/event/50-years-of-movement-bloomsday-exhibition/2026-04-25/
LOCATION:Terrain Gallery\, 628 N Monroe St\,\, Spokane\, WA\, 99201\, United States
CATEGORIES:Art & Entertainment,Visual Art
ATTACH;FMTTYPE=image/jpeg:https://downtownspokane.org/wp-content/uploads/2026/03/fb_event_cover-01-4-scaled.jpg
ORGANIZER;CN="Terrain Programs":MAILTO:team@terrainspokane.com
GEO:47.6636190;-117.4263055
X-APPLE-STRUCTURED-LOCATION;VALUE=URI;X-ADDRESS=Terrain Gallery 628 N Monroe St Spokane WA 99201 United States;X-APPLE-RADIUS=500;X-TITLE=628 N Monroe St\,:geo:-117.4263055,47.6636190
END:VEVENT
BEGIN:VEVENT
DTSTART;TZID=America/Los_Angeles:20260425T180000
DTEND;TZID=America/Los_Angeles:20260425T190000
DTSTAMP:20260425T035346
CREATED:20260423T211918Z
LAST-MODIFIED:20260423T211918Z
UID:10039786-1777140000-1777143600@downtownspokane.org
SUMMARY:Queer & Weird Book Club
DESCRIPTION:We will be discussing “The Moth Keeper” by K. O’Neill at the April meeting. \nThis book club typically meets on the 4th Saturday of the month at Auntie’s Bookstore and is led by Ness. Please send any inquiries to vanessa@auntiesbooks.com
URL:https://downtownspokane.org/event/queer-weird-book-club-5/
LOCATION:Auntie’s Bookstore\, 402 W Main Ave\, #1st Fl Liberty Bldg\,\, Spokane\, WA\, 99201\, United States
CATEGORIES:Literature
ATTACH;FMTTYPE=image/png:https://downtownspokane.org/wp-content/uploads/2026/04/Queer-Weird-Book-Club-Instagram_April26.png
ORGANIZER;CN="Auntie's Bookstore":MAILTO:events@auntiesbooks.com
GEO:47.65920089999999;-117.4183536
X-APPLE-STRUCTURED-LOCATION;VALUE=URI;X-ADDRESS=Auntie’s Bookstore 402 W Main Ave #1st Fl Liberty Bldg Spokane WA 99201 United States;X-APPLE-RADIUS=500;X-TITLE=402 W Main Ave\, #1st Fl Liberty Bldg\,:geo:-117.4183536,47.65920089999999
END:VEVENT
BEGIN:VEVENT
DTSTART;TZID=America/Los_Angeles:20260425T180000
DTEND;TZID=America/Los_Angeles:20260425T193000
DTSTAMP:20260425T035346
CREATED:20260413T153341Z
LAST-MODIFIED:20260413T153341Z
UID:10039691-1777140000-1777145400@downtownspokane.org
SUMMARY:Elisha Harteis Artist Talk at D2
DESCRIPTION:On April 25th\, at 6:00\, Missoula artist Elisha Harteis will be back in town to give our first ever Final Saturday Artist Talk! This will be a great opportunity to meet Elisha\, ask her about her stunning exhibit “Cry Baby”\, hear her talk about the concepts and motivations behind her work\, and get one last chance to see this exhibit. “Cry Baby” is currently on display Wednesdays and Thursdays from 11 to 5:30\, Fridays and Saturdays from 11 to 6.
URL:https://downtownspokane.org/event/elisha-harteis-artist-talk-at-d2/
LOCATION:D2 Gallery and Studio\, 310 W 1st Ave\, Spokane\, Washington\, 99201\, United States
CATEGORIES:Art & Entertainment,Visual Art
ATTACH;FMTTYPE=image/jpeg:https://downtownspokane.org/wp-content/uploads/2026/04/cry-baby-artist-talk-scaled.jpg
ORGANIZER;CN="D2 Gallery and Studio":MAILTO:michael@d2gallerystudio.com
GEO:47.6568074;-117.4165484
X-APPLE-STRUCTURED-LOCATION;VALUE=URI;X-ADDRESS=D2 Gallery and Studio 310 W 1st Ave Spokane Washington 99201 United States;X-APPLE-RADIUS=500;X-TITLE=310 W 1st Ave:geo:-117.4165484,47.6568074
END:VEVENT
BEGIN:VEVENT
DTSTART;TZID=America/Los_Angeles:20260425T190000
DTEND;TZID=America/Los_Angeles:20260425T210000
DTSTAMP:20260425T035346
CREATED:20260128T171415Z
LAST-MODIFIED:20260128T171421Z
UID:10038261-1777143600-1777150800@downtownspokane.org
SUMMARY:MercyMe: Wonder + Awe Tour
DESCRIPTION:Multi-platinum band MercyMe is bringing their Wonder + Awe Tour to Numerica Veterans Arena on Saturday\, April 25. MercyMe will be joined by special guests Big Daddy Weave\, longtime friend Tim Timmons\, and newcomer Sam Wesley for an unforgettable night of music\, hope\, and community.
URL:https://downtownspokane.org/event/mercyme-wonder-awe-tour-2/
LOCATION:Veterans Memorial Arena\, 720 W Mallon Ave\,\, Spokane\, WA\, 99201\, United States
CATEGORIES:Art & Entertainment,Live Music
ATTACH;FMTTYPE=image/jpeg:https://downtownspokane.org/wp-content/uploads/2026/01/a1520603-5d9c-4891-aa1e-c080824f21ec-LgvBw9.jpg
GEO:47.6660864;-117.4227507
X-APPLE-STRUCTURED-LOCATION;VALUE=URI;X-ADDRESS=Veterans Memorial Arena 720 W Mallon Ave Spokane WA 99201 United States;X-APPLE-RADIUS=500;X-TITLE=720 W Mallon Ave\,:geo:-117.4227507,47.6660864
END:VEVENT
BEGIN:VEVENT
DTSTART;TZID=America/Los_Angeles:20260425T193000
DTEND;TZID=America/Los_Angeles:20260425T213000
DTSTAMP:20260425T035346
CREATED:20260128T170739Z
LAST-MODIFIED:20260128T170739Z
UID:10038183-1777145400-1777152600@downtownspokane.org
SUMMARY:Spokane Symphony Masterworks 8: Verdi Requiem
DESCRIPTION:Guiseppe Verdi’s monumental Requiem is an epic and deeply moving work written in honor of Italian writer Alessandro Manzoni. This choral masterpiece merges operatic intensity with sacred reverence\, exploring the full range of human emotion—from fear and sorrow to hope and transcendence. It stands as one of Verdi’s most profound and stirring works\, a requiem that feels both personal and universal.
URL:https://downtownspokane.org/event/spokane-symphony-masterworks-8-verdi-requiem-2/
LOCATION:Martin Woldson Theater at the Fox\, 1001 W. Sprague Ave.\,\, Spokane\, WA\, 99201\, United States
CATEGORIES:Art & Entertainment,Live Music
ATTACH;FMTTYPE=image/jpeg:https://downtownspokane.org/wp-content/uploads/2026/01/Verdi-Requiem1-hidIWa.jpg
ORGANIZER;CN="Olive Merle Creed":MAILTO:merlecreed@spokanesymphony.org
GEO:47.6570930;-117.4267260
X-APPLE-STRUCTURED-LOCATION;VALUE=URI;X-ADDRESS=Martin Woldson Theater at the Fox 1001 W. Sprague Ave. Spokane WA 99201 United States;X-APPLE-RADIUS=500;X-TITLE=1001 W. Sprague Ave.\,:geo:-117.4267260,47.6570930
END:VEVENT
END:VCALENDAR