BEGIN:VCALENDAR
VERSION:2.0
PRODID:-//Downtown Spokane Partnership - ECPv6.15.17.1//NONSGML v1.0//EN
CALSCALE:GREGORIAN
METHOD:PUBLISH
X-WR-CALNAME:Downtown Spokane Partnership
X-ORIGINAL-URL:https://downtownspokane.org
X-WR-CALDESC:Events for Downtown Spokane Partnership
REFRESH-INTERVAL;VALUE=DURATION:PT1H
X-Robots-Tag:noindex
X-PUBLISHED-TTL:PT1H
BEGIN:VTIMEZONE
TZID:America/Los_Angeles
BEGIN:DAYLIGHT
TZOFFSETFROM:-0800
TZOFFSETTO:-0700
TZNAME:PDT
DTSTART:20250309T100000
END:DAYLIGHT
BEGIN:STANDARD
TZOFFSETFROM:-0700
TZOFFSETTO:-0800
TZNAME:PST
DTSTART:20251102T090000
END:STANDARD
BEGIN:DAYLIGHT
TZOFFSETFROM:-0800
TZOFFSETTO:-0700
TZNAME:PDT
DTSTART:20260308T100000
END:DAYLIGHT
BEGIN:STANDARD
TZOFFSETFROM:-0700
TZOFFSETTO:-0800
TZNAME:PST
DTSTART:20261101T090000
END:STANDARD
BEGIN:DAYLIGHT
TZOFFSETFROM:-0800
TZOFFSETTO:-0700
TZNAME:PDT
DTSTART:20270314T100000
END:DAYLIGHT
BEGIN:STANDARD
TZOFFSETFROM:-0700
TZOFFSETTO:-0800
TZNAME:PST
DTSTART:20271107T090000
END:STANDARD
END:VTIMEZONE
BEGIN:VEVENT
DTSTART;TZID=America/Los_Angeles:20260426T160000
DTEND;TZID=America/Los_Angeles:20260426T180000
DTSTAMP:20260421T191541
CREATED:20260319T183711Z
LAST-MODIFIED:20260319T183711Z
UID:10039130-1777219200-1777226400@downtownspokane.org
SUMMARY:Spokane Zephyr FC Home Match
DESCRIPTION:Come to ONE Spokane Stadium to watch Spokane Zephyr FC defend their home turf for an action packed match! \nMarch 21: DC Power FC\nApril 19: Sporting Club Jacksonville\nApril 26: Fort Lauderdale United FC\nMay 2: Lexington Sporting Club\nMay 9: DC Power FC\nMay 16: Brooklyn FC
URL:https://downtownspokane.org/event/spokane-zephyr-fc-home-match/2026-04-26/
LOCATION:ONE Spokane Stadium\, 501 W Gardner\,\, Spokane\, WA\, 99201\, United States
CATEGORIES:Art & Entertainment,Sports Entertainment
ATTACH;FMTTYPE=image/png:https://downtownspokane.org/wp-content/uploads/2026/03/29202677-206c-45cd-859a-abc3fc73b225-e1773945366725.png
GEO:47.6673630;-117.4203670
X-APPLE-STRUCTURED-LOCATION;VALUE=URI;X-ADDRESS=ONE Spokane Stadium 501 W Gardner Spokane WA 99201 United States;X-APPLE-RADIUS=500;X-TITLE=501 W Gardner\,:geo:-117.4203670,47.6673630
END:VEVENT
BEGIN:VEVENT
DTSTART;TZID=America/Los_Angeles:20260502T180000
DTEND;TZID=America/Los_Angeles:20260502T200000
DTSTAMP:20260421T191541
CREATED:20260319T183711Z
LAST-MODIFIED:20260319T183711Z
UID:10039131-1777744800-1777752000@downtownspokane.org
SUMMARY:Spokane Zephyr FC Home Match
DESCRIPTION:Come to ONE Spokane Stadium to watch Spokane Zephyr FC defend their home turf for an action packed match! \nMarch 21: DC Power FC\nApril 19: Sporting Club Jacksonville\nApril 26: Fort Lauderdale United FC\nMay 2: Lexington Sporting Club\nMay 9: DC Power FC\nMay 16: Brooklyn FC
URL:https://downtownspokane.org/event/spokane-zephyr-fc-home-match/2026-05-02/
LOCATION:ONE Spokane Stadium\, 501 W Gardner\,\, Spokane\, WA\, 99201\, United States
CATEGORIES:Art & Entertainment,Sports Entertainment
ATTACH;FMTTYPE=image/png:https://downtownspokane.org/wp-content/uploads/2026/03/29202677-206c-45cd-859a-abc3fc73b225-e1773945366725.png
GEO:47.6673630;-117.4203670
X-APPLE-STRUCTURED-LOCATION;VALUE=URI;X-ADDRESS=ONE Spokane Stadium 501 W Gardner Spokane WA 99201 United States;X-APPLE-RADIUS=500;X-TITLE=501 W Gardner\,:geo:-117.4203670,47.6673630
END:VEVENT
BEGIN:VEVENT
DTSTART;TZID=America/Los_Angeles:20260509T193000
DTEND;TZID=America/Los_Angeles:20260509T213000
DTSTAMP:20260421T191541
CREATED:20260319T183711Z
LAST-MODIFIED:20260319T183711Z
UID:10039132-1778355000-1778362200@downtownspokane.org
SUMMARY:Spokane Zephyr FC Home Match
DESCRIPTION:Come to ONE Spokane Stadium to watch Spokane Zephyr FC defend their home turf for an action packed match! \nMarch 21: DC Power FC\nApril 19: Sporting Club Jacksonville\nApril 26: Fort Lauderdale United FC\nMay 2: Lexington Sporting Club\nMay 9: DC Power FC\nMay 16: Brooklyn FC
URL:https://downtownspokane.org/event/spokane-zephyr-fc-home-match/2026-05-09/
LOCATION:ONE Spokane Stadium\, 501 W Gardner\,\, Spokane\, WA\, 99201\, United States
CATEGORIES:Art & Entertainment,Sports Entertainment
ATTACH;FMTTYPE=image/png:https://downtownspokane.org/wp-content/uploads/2026/03/29202677-206c-45cd-859a-abc3fc73b225-e1773945366725.png
GEO:47.6673630;-117.4203670
X-APPLE-STRUCTURED-LOCATION;VALUE=URI;X-ADDRESS=ONE Spokane Stadium 501 W Gardner Spokane WA 99201 United States;X-APPLE-RADIUS=500;X-TITLE=501 W Gardner\,:geo:-117.4203670,47.6673630
END:VEVENT
BEGIN:VEVENT
DTSTART;TZID=America/Los_Angeles:20260516T193000
DTEND;TZID=America/Los_Angeles:20260516T213000
DTSTAMP:20260421T191541
CREATED:20260319T183711Z
LAST-MODIFIED:20260319T183711Z
UID:10039133-1778959800-1778967000@downtownspokane.org
SUMMARY:Spokane Zephyr FC Home Match
DESCRIPTION:Come to ONE Spokane Stadium to watch Spokane Zephyr FC defend their home turf for an action packed match! \nMarch 21: DC Power FC\nApril 19: Sporting Club Jacksonville\nApril 26: Fort Lauderdale United FC\nMay 2: Lexington Sporting Club\nMay 9: DC Power FC\nMay 16: Brooklyn FC
URL:https://downtownspokane.org/event/spokane-zephyr-fc-home-match/2026-05-16/
LOCATION:ONE Spokane Stadium\, 501 W Gardner\,\, Spokane\, WA\, 99201\, United States
CATEGORIES:Art & Entertainment,Sports Entertainment
ATTACH;FMTTYPE=image/png:https://downtownspokane.org/wp-content/uploads/2026/03/29202677-206c-45cd-859a-abc3fc73b225-e1773945366725.png
GEO:47.6673630;-117.4203670
X-APPLE-STRUCTURED-LOCATION;VALUE=URI;X-ADDRESS=ONE Spokane Stadium 501 W Gardner Spokane WA 99201 United States;X-APPLE-RADIUS=500;X-TITLE=501 W Gardner\,:geo:-117.4203670,47.6673630
END:VEVENT
END:VCALENDAR