BEGIN:VCALENDAR
VERSION:2.0
PRODID:-//Downtown Spokane Partnership - ECPv6.15.20//NONSGML v1.0//EN
CALSCALE:GREGORIAN
METHOD:PUBLISH
X-WR-CALNAME:Downtown Spokane Partnership
X-ORIGINAL-URL:https://downtownspokane.org
X-WR-CALDESC:Events for Downtown Spokane Partnership
REFRESH-INTERVAL;VALUE=DURATION:PT1H
X-Robots-Tag:noindex
X-PUBLISHED-TTL:PT1H
BEGIN:VTIMEZONE
TZID:America/Los_Angeles
BEGIN:DAYLIGHT
TZOFFSETFROM:-0800
TZOFFSETTO:-0700
TZNAME:PDT
DTSTART:20250309T100000
END:DAYLIGHT
BEGIN:STANDARD
TZOFFSETFROM:-0700
TZOFFSETTO:-0800
TZNAME:PST
DTSTART:20251102T090000
END:STANDARD
BEGIN:DAYLIGHT
TZOFFSETFROM:-0800
TZOFFSETTO:-0700
TZNAME:PDT
DTSTART:20260308T100000
END:DAYLIGHT
BEGIN:STANDARD
TZOFFSETFROM:-0700
TZOFFSETTO:-0800
TZNAME:PST
DTSTART:20261101T090000
END:STANDARD
BEGIN:DAYLIGHT
TZOFFSETFROM:-0800
TZOFFSETTO:-0700
TZNAME:PDT
DTSTART:20270314T100000
END:DAYLIGHT
BEGIN:STANDARD
TZOFFSETFROM:-0700
TZOFFSETTO:-0800
TZNAME:PST
DTSTART:20271107T090000
END:STANDARD
END:VTIMEZONE
BEGIN:VEVENT
DTSTART;TZID=America/Los_Angeles:20260501T170000
DTEND;TZID=America/Los_Angeles:20260501T200000
DTSTAMP:20260425T114222
CREATED:20260424T213635Z
LAST-MODIFIED:20260424T213825Z
UID:10040188-1777654800-1777665600@downtownspokane.org
SUMMARY:Derivations: Revealed Through Removal
DESCRIPTION:Prints by Bri Covert with Turned and Carved Wood Vessels by Connor Kelly
URL:https://downtownspokane.org/event/derivations-revealed-through-removal/
LOCATION:Trackside Studio Ceramic Art Gallery\, 115 S Adams St\,\, Spokane\, WA\, 99201\, United States
CATEGORIES:First Friday
ATTACH;FMTTYPE=image/jpeg:https://downtownspokane.org/wp-content/uploads/2026/04/Derivations.1.jpeg
ORGANIZER;CN="Downtown Spokane Partnership":MAILTO:info@downtownspokane.org
GEO:47.6561721;-117.4309805
X-APPLE-STRUCTURED-LOCATION;VALUE=URI;X-ADDRESS=Trackside Studio Ceramic Art Gallery 115 S Adams St Spokane WA 99201 United States;X-APPLE-RADIUS=500;X-TITLE=115 S Adams St\,:geo:-117.4309805,47.6561721
END:VEVENT
END:VCALENDAR