BEGIN:VCALENDAR
VERSION:2.0
PRODID:-//Downtown Spokane Partnership - ECPv6.15.17.1//NONSGML v1.0//EN
CALSCALE:GREGORIAN
METHOD:PUBLISH
X-WR-CALNAME:Downtown Spokane Partnership
X-ORIGINAL-URL:https://downtownspokane.org
X-WR-CALDESC:Events for Downtown Spokane Partnership
REFRESH-INTERVAL;VALUE=DURATION:PT1H
X-Robots-Tag:noindex
X-PUBLISHED-TTL:PT1H
BEGIN:VTIMEZONE
TZID:America/Los_Angeles
BEGIN:DAYLIGHT
TZOFFSETFROM:-0800
TZOFFSETTO:-0700
TZNAME:PDT
DTSTART:20250309T100000
END:DAYLIGHT
BEGIN:STANDARD
TZOFFSETFROM:-0700
TZOFFSETTO:-0800
TZNAME:PST
DTSTART:20251102T090000
END:STANDARD
BEGIN:DAYLIGHT
TZOFFSETFROM:-0800
TZOFFSETTO:-0700
TZNAME:PDT
DTSTART:20260308T100000
END:DAYLIGHT
BEGIN:STANDARD
TZOFFSETFROM:-0700
TZOFFSETTO:-0800
TZNAME:PST
DTSTART:20261101T090000
END:STANDARD
BEGIN:DAYLIGHT
TZOFFSETFROM:-0800
TZOFFSETTO:-0700
TZNAME:PDT
DTSTART:20270314T100000
END:DAYLIGHT
BEGIN:STANDARD
TZOFFSETFROM:-0700
TZOFFSETTO:-0800
TZNAME:PST
DTSTART:20271107T090000
END:STANDARD
END:VTIMEZONE
BEGIN:VEVENT
DTSTART;TZID=America/Los_Angeles:20260329T110000
DTEND;TZID=America/Los_Angeles:20260425T200000
DTSTAMP:20260420T091705
CREATED:20260318T144804Z
LAST-MODIFIED:20260318T144804Z
UID:10038724-1774782000-1777147200@downtownspokane.org
SUMMARY:In April the Liberty Gallery presents "Resilience: The Power of Joy"
DESCRIPTION:From small fleeting moments to a conscientious way of life\, Joy is the thread that holds our lives together. More than just the silver lining we see on the edge of clouds\, joy helps us find meaning\, purpose\, and the courage to take the next step. \nInterpretations of Joy are represented in different forms of printmaking\, such as intaglio and relief printing\, from linoleum\, wood carving\, and letterpress printing by members of the Spokane Print & Publishing Center. \nYou can view the show this April in the Liberty Gallery (above Aunties Bookstore) ~ stop by on First Friday April 3rd from 5-8pm to meet the artists!
URL:https://downtownspokane.org/event/in-april-the-liberty-gallery-presents-resilience-the-power-of-joy/
LOCATION:Liberty Gallery in the Historic Liberty Building\, 203 N Washington\,\, Spokane\, WA\, 99201\, United States
CATEGORIES:Art & Entertainment,First Friday,Visual Art
ATTACH;FMTTYPE=image/jpeg:https://downtownspokane.org/wp-content/uploads/2026/03/Joy-Thom-Caraway.jpg
ORGANIZER;CN="S. Reynolds":MAILTO:conreyn@newwave.net
GEO:47.6593064;-117.4183048
X-APPLE-STRUCTURED-LOCATION;VALUE=URI;X-ADDRESS=Liberty Gallery in the Historic Liberty Building 203 N Washington Spokane WA 99201 United States;X-APPLE-RADIUS=500;X-TITLE=203 N Washington\,:geo:-117.4183048,47.6593064
END:VEVENT
BEGIN:VEVENT
DTSTART;TZID=America/Los_Angeles:20260403T170000
DTEND;TZID=America/Los_Angeles:20260424T170000
DTSTAMP:20260420T091705
CREATED:20260325T204119Z
LAST-MODIFIED:20260325T204119Z
UID:10039206-1775235600-1777050000@downtownspokane.org
SUMMARY:Mentor: Regional Ceramics Instructors and Students.
DESCRIPTION:‘Mentor’ features the ceramic work of regional collegiate instructors and their students. Schools include Gonzaga\, SFCC\, Whitworth\, EWU\, WSU\, and U of I.\nApril 3- 24\, Opening reception April 3\, 5-8pm and Saturday April 4\, 12-4pm.
URL:https://downtownspokane.org/event/mentor-regional-ceramics-instructors-and-students/
LOCATION:Trackside Studio Ceramic Art Gallery\, 115 S Adams St\,\, Spokane\, WA\, 99201\, United States
CATEGORIES:Art & Entertainment,First Friday,Visual Art
ATTACH;FMTTYPE=image/jpeg:https://downtownspokane.org/wp-content/uploads/2026/03/Acceptance_katthomas-scaled.jpeg
ORGANIZER;CN="Chris Kelsey":MAILTO:trackside@tracksidestudio.net
GEO:47.6561721;-117.4309805
X-APPLE-STRUCTURED-LOCATION;VALUE=URI;X-ADDRESS=Trackside Studio Ceramic Art Gallery 115 S Adams St Spokane WA 99201 United States;X-APPLE-RADIUS=500;X-TITLE=115 S Adams St\,:geo:-117.4309805,47.6561721
END:VEVENT
BEGIN:VEVENT
DTSTART;TZID=America/Los_Angeles:20260420T110000
DTEND;TZID=America/Los_Angeles:20260420T180000
DTSTAMP:20260420T091705
CREATED:20260329T230513Z
LAST-MODIFIED:20260407T004927Z
UID:10039234-1776682800-1776708000@downtownspokane.org
SUMMARY:What's on the other side: Works by JJ Harty
DESCRIPTION:We exist in a moment of over-stimulation and information saturation\, a moment where a short descriptive paragraph can create a beautiful\, sparkling image for us\, but then be quickly forgotten and dissolved back into the ether of the internet.This work is a playful way to make commentary on the serious questions about AI art. Using very simple pre-programmed vacuuming/mopping robots with some minimal modifications I wrangle the robots to produce something visually interesting. The catch is\, just like AI\, these robots cannot do it on their own. They need input and a lot of help from a person to make the art.
URL:https://downtownspokane.org/event/whats-on-the-other-side-works-by-jj-harty/2026-04-20/
LOCATION:Entropy\, 101 N. Stevens St.\,\, Spokane\, WA\, 99201\, United States
CATEGORIES:Visual Art
ATTACH;FMTTYPE=image/jpeg:https://downtownspokane.org/wp-content/uploads/2026/03/DSCF7966-scaled.jpg
ORGANIZER;CN="Rob Mckirdie":MAILTO:entropyartgallery@gmail.com
GEO:47.6586340;-117.4194260
X-APPLE-STRUCTURED-LOCATION;VALUE=URI;X-ADDRESS=Entropy 101 N. Stevens St. Spokane WA 99201 United States;X-APPLE-RADIUS=500;X-TITLE=101 N. Stevens St.\,:geo:-117.4194260,47.6586340
END:VEVENT
BEGIN:VEVENT
DTSTART;TZID=America/Los_Angeles:20260420T170000
DTEND;TZID=America/Los_Angeles:20260420T190000
DTSTAMP:20260420T091705
CREATED:20260305T181934Z
LAST-MODIFIED:20260306T174240Z
UID:10038411-1776704400-1776711600@downtownspokane.org
SUMMARY:The Aligned Business: Defining the WHY
DESCRIPTION:Your WHY is not a statement. It is a compass. \nBusy is not the same as aligned. And scaling without clarity is expensive. \nWhether you are just starting out or leading a growing team\, your mission\, vision\, and values are not documents you write once and forget. They are living anchors. As you evolve\, they must evolve with you. \nIn this session of The Aligned Business Series\, we will revisit and recalibrate the foundation of your work. You will refine your WHY through who you are today\, clarify the future you are building toward\, and strengthen the values guiding your decisions. \nYou do not need to have attended the first workshop to join us. \nSocial Hour from 5:00–5:30 PM\nSponsored by Thrivent and Numerica \nWorkshop Experience from 5:30–7:00 PM \nIf something feels slightly off in your business\, do not ignore it. This is your moment to realign. \n 
URL:https://downtownspokane.org/event/the-aligned-business-defining-the-why/
LOCATION:Emma Rue’s\, 15 S. Howard St.\,\, Spokane\, WA\, 99201\, United States
CATEGORIES:Interests and Hobbies,Learning,Professional Development
ATTACH;FMTTYPE=image/png:https://downtownspokane.org/wp-content/uploads/2026/03/The-Aligned-Business-Bullet-List-1400-x-1000-px.png
ORGANIZER;CN="Jessica Davisson":MAILTO:support@iamalliance.me
GEO:47.6567911;-117.4208732
X-APPLE-STRUCTURED-LOCATION;VALUE=URI;X-ADDRESS=Emma Rue’s 15 S. Howard St. Spokane WA 99201 United States;X-APPLE-RADIUS=500;X-TITLE=15 S. Howard St.\,:geo:-117.4208732,47.6567911
END:VEVENT
END:VCALENDAR